BEGIN:VCALENDAR
PRODID:-//eluceo/ical//2.0/EN
VERSION:2.0
CALSCALE:GREGORIAN
BEGIN:VEVENT
UID:36eaec71f9c76dd77d4395a4b80f66df
DTSTAMP:20260423T172439Z
SUMMARY:Smart Industry 2024
DESCRIPTION:Název akce: Smart Industry 2024\nURL: https://www.spcr.cz/smar
 t-industry-2024\nPopis: \n\nZískejte přehled o nejnovějších trendec
 h v oblasti výroby\, servisu a údržby na konferenci Smart Industry 202
 4. Připravte svou firmu na budoucí změny už dnes.\n\nNavštivte inspir
 ativní přednášky uznávaných expertů. Poslechněte si\, jak řeší 
 nové výzvy přední firmy v oboru\, a zapojte se do panelových diskuz
 í s odborníky. Proberete témata jako:\n\n\n\nřešení nedostatku kval
 ifikovaných odborníků\nchytrá digitalizace dokumentace a procesů\nzvy
 šování efektivity výroby a servisu\nmezigenerační přenos know-how\n
 ...a mnoho dalších.\n\n\n\n\nPodrobný program a registrace \n\nSvaz pr
 ůmyslu a dopravy ČR poskytnul konferenci záštitu.\n
URL:https://www.spcr.cz/smart-industry-2024
DTSTART:20241114T000000
DTEND:20241115T235959
LOCATION:
END:VEVENT
END:VCALENDAR
