BEGIN:VCALENDAR
PRODID:-//eluceo/ical//2.0/EN
VERSION:2.0
CALSCALE:GREGORIAN
BEGIN:VEVENT
UID:0329ba7e76a74b031f8f9ca9778008de
DTSTAMP:20260423T145743Z
SUMMARY:Podnikání na Novém Zélandu: jak využít obchodní dohodu mezi 
 EU a Novým Zélandem
DESCRIPTION:Název akce: Podnikání na Novém Zélandu: jak využít obcho
 dní dohodu mezi EU a Novým Zélandem\nURL: https://www.spcr.cz/podnikani
 -na-novem-zelandu-jak-vyuzit-obchodni-dohodu-mezi-eu-novym-zelandem-0\nPop
 is: \n\nDovolujeme si Vás pozvat na online seminář\, který se koná ve
  čtvrtek 24. října od 9:30. Organizuje ho Entreprise Europe Network a 
 tématem bude dohoda o volném obchodu mezi EU a Novým Zélandem a podnik
 ání na Novém Zélandu.\nOdkaz pro připojení a podrobnější informac
 e najdete zde: https://een.ec.europa.eu/doing-business-new-zealand-how-ex
 ploit-eu-new-zealand-trade-agreement. \nÚčast na akci je zdarma.\n \nE
 ntreprise Europe Network je podporována a financována Evropskou komisí\
 ; funguje jako podpůrná síť pro malé a střední podniky (MSP) v jeji
 ch úsilí o mezinárodní spolupráci.\nInformace o obchodních přílež
 itostech na Novém Zélandu najdete například na portálu businessinfo:
   https://www.businessinfo.cz/navody/novy-zeland-souhrnna-teritorialni-i
 nformace/2/\n
URL:https://www.spcr.cz/podnikani-na-novem-zelandu-jak-vyuzit-obchodni-doho
 du-mezi-eu-novym-zelandem-0
DTSTART:20241024T093000
DTEND:20241024T235959
LOCATION:
END:VEVENT
END:VCALENDAR
