BEGIN:VCALENDAR
PRODID:-//eluceo/ical//2.0/EN
VERSION:2.0
CALSCALE:GREGORIAN
BEGIN:VEVENT
UID:cfecf0dc682f3affc30d4beb73140327
DTSTAMP:20260423T163124Z
SUMMARY:6th China-CEEC (Cangzhou) SME Cooperation Forum
DESCRIPTION:Název akce: 6th China-CEEC (Cangzhou) SME Cooperation Forum\nU
 RL: https://www.spcr.cz/6th-china-ceec-cangzhou-sme-cooperation-forum\nPop
 is: \n\nThe 6th China-CEEC(Cangzhou) SME Cooperation Forum will be held du
 ring 7th-8th November\, 2024\,in Cangzhou City\, Hebei Province\, China. 
 It is jointly hosted by China Centre for Promotion of SME Development of M
 inistry of Industry and Information Technology\, Hebei Provincial Departme
 nt of industry and Information Technology\, and Cangzhou Municipal People'
 s Government.\nWith the theme of Deepening Cooperation and Sharing Opportu
 nities\, the forum will invite relevant officials from national ministries
  and commissions\, diplomatic envoys from Central and Eastern European cou
 ntries to China\, local government representatives\, as well as representa
 tives from chambers of commerce\, associations\,enterprises\, universities
  and research institutes\, etc. The forum will take full advantage of the 
 bilateral and multilateral SME cooperation mechanisms\, gather resource el
 ements\, encourage more people-to-people and cultural exchanges\,promote e
 conomic and trade cooperation\, and build up an important platform for coo
 peration between SMEs in China and CEECs.The organizer will bear the  acc
 ommodation and transportation expense during your participation in Cangzho
 u.\nAttached please find the Agenda\, Return Receipt and contact informati
 on.\nContact: cz@mofcom.gov.cn\n
URL:https://www.spcr.cz/6th-china-ceec-cangzhou-sme-cooperation-forum
DTSTART:20241107T000000
DTEND:20241108T235959
LOCATION:
END:VEVENT
END:VCALENDAR
