BEGIN:VCALENDAR
PRODID:-//eluceo/ical//2.0/EN
VERSION:2.0
CALSCALE:GREGORIAN
BEGIN:VEVENT
UID:df6fab0028fedb8d4491e84245da4503
DTSTAMP:20260423T162642Z
SUMMARY:Podnikání na Novém Zélandu: jak využít obchodní dohodu
DESCRIPTION:Název akce: Podnikání na Novém Zélandu: jak využít obcho
 dní dohodu\nURL: https://www.spcr.cz/podnikani-na-novem-zelandu-jak-vyuzi
 t-obchodni-dohodu\nPopis: \n\nDíky nové dohodě o volném obchodu mezi 
 EU a Novým Zélandem\, která vstoupila v platnost 1. května 2024\, vz
 niká nová bezcelní zóna. Předpokládá se\, že samotné odstraněn
 í cel ušetří podnikům 140 milionů EUR ročně a očekává se\, že 
 díky posílení stability růstu objem obchodu vzroste o 30 %. Kromě t
 oho by se investice EU na Novém Zélandu mohly v nadcházejících letec
 h zvýšit o více než 80 %. Díky stabilitě a jistotě\, které doho
 da poskytuje\, se očekává také nárůst obchodu se službami.\nVíce i
 nformací k registraci na akci se dozvíte zde. \n
URL:https://www.spcr.cz/podnikani-na-novem-zelandu-jak-vyuzit-obchodni-doho
 du
DTSTART:20241024T093000
DTEND:20241024T103000
LOCATION:
END:VEVENT
END:VCALENDAR
