BEGIN:VCALENDAR
PRODID:-//eluceo/ical//2.0/EN
VERSION:2.0
CALSCALE:GREGORIAN
BEGIN:VEVENT
UID:ceae6828a7a0203fdcf66d85b46b9bec
DTSTAMP:20260423T163117Z
SUMMARY:Inovace v digitalizaci
DESCRIPTION:Název akce: Inovace v digitalizaci\nURL: https://www.spcr.cz/i
 novace-v-digitalizaci\nPopis: \n\nPřijměte pozvání na konferenci Inova
 ce v digitalizaci\, která je zdarma. Od elektronického podpisu přes blo
 ckchain až ke kybernetické bezpečnosti.Konference proběhne v Liberci n
 a Technické univerzitě v Liberci 12.11.2024. Nutná je registrace ZDE do
  7.11.2024. PROGRAM: 09:30 - 10:00 Registrace 10:00 - 10:10 Úvodní slovo
  (Naďa Vojtíšková\, RM\, Svaz průmyslu a dopravy ČR) 10:10 - 10:30 E
 lektronické podepisování s Bank iD (Marek Růžička\, CEO Bank iD) 10:
 30 - 10:50 Digitalizace podpisu firemních dokumentů (Martin Vondrouš\, 
 Senior BDM\, Software 602) Elektronický podpis pracovněprávní dokument
 ace s využitím BankID Interní schvalování a elektronický podpis obch
 odních smluv s protistranou Důvěryhodná archivace firemních dokument
 ů dle eIDAS 2.0 10:50 - 11:10 Blockchain jako důvěryhodná technologie 
 (Otto Havle\, CEO\, ELA Blockchain Services a.s.) Princip a podmínky vyu
 žití blockchainu jako důvěryhodné distribuované autority 11:10 - 11:
 30 Národní blockchainový registr (Věra Šmídová\, BDM\, ELA Blockcha
 in Services a.s.) Jak pomáhá blockchain jako důkazní prostředek při 
 výstupní kontrole\, autentizaci dokumentů nebo při hlasování per rol
 lam a to vše pod dohledem eIDAS 2.0 11:30 - 11:50 Automatická validace 
 úrovně kybernetické bezpečnosti (Tomáš Hrabák\, Co-Founder\, Bohemi
 a Cybersecurity s.r.o.) 11:50 - 12:05 Představení TUL-CXI (Adam Blažek\
 , vedoucí odd. pro průmysl\, Technická univerzita v Liberci) Představe
 ní TUL-CXI\, AMIA a příklady spolupráce s firmami 12:05 - 12:30 Občer
 stvení 12:30 - 13:30 Exkurze po laboratořích TUL\n \n
URL:https://www.spcr.cz/inovace-v-digitalizaci
DTSTART:20241112T093000
DTEND:20241112T133000
LOCATION:
END:VEVENT
END:VCALENDAR
