BEGIN:VCALENDAR
PRODID:-//eluceo/ical//2.0/EN
VERSION:2.0
CALSCALE:GREGORIAN
BEGIN:VEVENT
UID:8f0a89fbe696c49d69d7468a494f205f
DTSTAMP:20260423T163118Z
SUMMARY:Sklářské svítání 2024
DESCRIPTION:Název akce: Sklářské svítání 2024\nURL: https://www.spcr
 .cz/sklarske-svitani-2024\nPopis: \n\n11. ročník diskusního setkání 
 „Sklářské svítání 2024\,“ které pořádá Muzeum skla a bižut
 erie v Jablonci nad Nisou ve spolupráci se Svazem průmyslu a dopravy ČR
 \, se letos uskuteční v pondělí 21. října 2024 od 13 hodin v Muzeu s
 kla a bižuterie v Jablonci nad Nisou.\n\nTéma letošního ročníku je 
 „Nové výzvy ve sklářství“. \n\nProgram:\n1. část - prezentace 
 na téma Nové výzvy ve sklářství- vyhlášení výsledků soutěže M
 aster of Crystal 20242. část - beseda se sklářskými designéry- nefor
 mální diskuze\n
URL:https://www.spcr.cz/sklarske-svitani-2024
DTSTART:20241021T000000
DTEND:20241021T235959
LOCATION:
END:VEVENT
END:VCALENDAR
