BEGIN:VCALENDAR
PRODID:-//eluceo/ical//2.0/EN
VERSION:2.0
CALSCALE:GREGORIAN
BEGIN:VEVENT
UID:dc1daf9838fc9e134824bf1c2ca97143
DTSTAMP:20260423T173735Z
SUMMARY:RoadShow CEBRE
DESCRIPTION:Název akce: RoadShow CEBRE\nURL: https://www.spcr.cz/roadshow-
 cebre\nPopis: \n\nSvaz průmyslu a dopravy Vás srdečně zve k účasti n
 a diskusním fóru v rámci projektu „ROAD SHOW – ČESKÝ PODNIKATEL J
 AKO SOUČÁST EVROPSKÉHO BYZNYSU – DNEŠEK A ZÍTŘEK“.\nAkce se usku
 teční 17. října 2024 od 16:30 hodin v konferenčním sále AulaU2 na U
 niverzitě Tomáše Bati ve Zlíně (Mostní 5139\, Zlín).\nToto fórum s
 e koná pod záštitou hejtmana Zlínského kraje ve spolupráci s Českou
  podnikatelskou reprezentací při EU (CEBRE) a Univerzitou Tomáše Bati 
 ve Zlíně. Mezi hlavními tématy diskuse budou:\n\nKlíčová evropská 
 témata pro ČR – současná a budoucí - výzkum\, vývoj a inovace\, i
 nvestice\, rozvoj digitální ekonomiky\, kybernetická bezpečnost\, umě
 lá inteligence\, elektro mobilita\, průmyslový design\, energetická be
 zpečnost a stabilita\, konkurenceschopnost\, profesní dovednosti a trh p
 ráce\, regulace – náklady administrativní a na úpravu podnikání\, 
 implementace současné legislativy EU do českého národního prostřed
 í\nEvropská struktura\, legislativa a financování projektů EU – leg
 islativní proces EU – veřejné konzultace\, financování projektů EU
 \, spolupráce vědy a podnikatelské reprezentace\nPodpora exportu – Ex
 portní strategie ČR 2023–2033\, internacionalizace\, podpora exportu E
 U – EU\, EU – Ukrajina\, EU – třetí svět\, obchodní dohody EU\, 
 Global Gateway\nPodpora podnikání a exportu ve Zlínském kraji - Geodem
 ografie v EU – problém globální\, dopady lokální\, Placebranding re
 gionů – jak věda může napomoci přivést do regionů nové obyvatele
 \, Talent management – výkon regionů postavený na talentech jeho obyv
 atel\n\nV rámci fóra budeme společně diskutovat o klíčových oblaste
 ch\, které jsou pro rozvoj podnikatelských aktivit ve Zlínském kraji z
 ásadní\, a to v kontextu aktuální evropské legislativy. Součástí a
 kce bude i networking a prezentace partnerů.\nAkce je zdarma a zde najdet
 e více informací o akci a také o možnosti registrovat se: REGISTRACE\n
URL:https://www.spcr.cz/roadshow-cebre
DTSTART:20241017T163000
DTEND:20241017T210000
LOCATION:
END:VEVENT
END:VCALENDAR
