BEGIN:VCALENDAR
PRODID:-//eluceo/ical//2.0/EN
VERSION:2.0
CALSCALE:GREGORIAN
BEGIN:VEVENT
UID:efe5202978dd8997a916a2ce32435932
DTSTAMP:20260423T162951Z
SUMMARY:Možnosti fotovoltaiky v podnicích
DESCRIPTION:Název akce: Možnosti fotovoltaiky v podnicích\nURL: https://
 www.spcr.cz/moznosti-fotovoltaiky-v-podnicich\nPopis: \n\nŘešíte ve fir
 mě jak snížit svou uhlíkovou stopu nebo snížit náklady na energie? 
 Jednou z cest může být instalace fotovoltaiky. Nejste si však jistí\
 , co to obnáší a na co si dát pozor? Nebo naopak máte realizaci za se
 bou?\nPřijďte diskutovat ke kulatému stolu Svazu průmyslu a dopravy a 
 Solární asociace. Probereme příslušnou legislativu\, aktuální situ
 aci v oblasti FVE či možnosti financování projektu. Zmíníme také j
 ak je to s připojováním a přetoky\, požadavky na statiku či požár
 ní bezpečností. Zástupci firem se s vámi podělí o jejich přímé 
 zkušenosti s fotovoltaickou instalací.\n\nPodrobný program a registrac
 e\n\nV případě dotazů se prosím obraťte na regionální kancelář S
 P ČR pro Plzeňský a Jihočeský kraj Bc. Kamilu Babuškovou\, e-mail: 
 kbabuskova@spcr.cz\, mobil: 733 643 518.\n
URL:https://www.spcr.cz/moznosti-fotovoltaiky-v-podnicich
DTSTART:20241003T100000
DTEND:20241003T123000
LOCATION:
END:VEVENT
END:VCALENDAR
