BEGIN:VCALENDAR
PRODID:-//eluceo/ical//2.0/EN
VERSION:2.0
CALSCALE:GREGORIAN
BEGIN:VEVENT
UID:b65e8868bd4500003b3c3486096cc48c
DTSTAMP:20260423T163303Z
SUMMARY:Online: Exekuce\, srážky ze mzdy
DESCRIPTION:Název akce: Online: Exekuce\, srážky ze mzdy\nURL: https://w
 ww.spcr.cz/online-exekuce-srazky-ze-mzdy\nPopis: \n\nSvaz průmyslu a dopr
 avy ČR si Vás v rámci projektu „Podpora národního\, odvětvového 
 a regionálního sociálního dialogu v ČR“ dovoluje pozvat na online d
 iskusní fórumEXEKUCE\, SRÁŽKY ZE MZDYCílem diskusního fóra je sezn
 ámit účastníky s novinkami v oblasti exekucí a zjistit jejich dopady 
 do praxe. ProgramPrávní předpisy upravující postup při provádění
  srážek ze mzdyPříjmy\, z nichž se srážky provádějí - §§ 276\,
  277 a 299 OSŘSrážky bez souhlasu zaměstnance a se souhlasem zaměstna
 nceSrážky přednostní a nepřednostníPojem vyživovaná osobaPostup p
 ři provádění srážek ze mzdy při souběhu exekučních srážek a sr
 ážek na základě dohodySouběh exekucí a poměrná úhrada dluhůDoru
 čování exekučních titulů do datových schránekExekuce a dočasná p
 racovní neschopnost\, PPM – povinnosti vůči OSSZ a opačněNáhradní
  výživnéChráněný účetInsolvenční zákon a insolvence fyzické os
 obySoučinnost zaměstnavatele vůči insolvenčním správcům\, exekutor
 ům\, soudůmDiskuseČasový harmonogram08:45 – 09:00    Připojení 
 účastníků09:00 – 11:00    Informační blok + diskuse moderátor
 JUDr. Monika Emanuelová\, právnička\, externí spolupracovnice Svazu pr
 ůmyslu a dopravy ČRREALIZACE AKCEDiskusní fórum bude probíhat online 
 na platformě ZOOM. Není nutná žádná instalace programu. Pro připoje
 ní se k diskusnímu fóru pro Vás bude dostačující odkaz\, který obd
 ržíte od organizátora akce nejpozději jeden pracovní den před konán
 ím akce na e-mail uvedený v registraci. Účast na diskusním fóru bud
 e umožněna pouze registrovaným osobám.RegistraceNa akci\, se\, prosím
 \, registrujte ZDE. OrgnizátorkaV případě dotazů se prosím obraťte
  na regionální kancelář SP ČR pro Plzeňský a Jihočeský kraj Bc. K
 amilu Babuškovou\, e-mail: kbabuskova@spcr.cz\, mobil: 733 643 518.\n
URL:https://www.spcr.cz/online-exekuce-srazky-ze-mzdy
DTSTART:20241108T090000
DTEND:20241108T110000
LOCATION:
END:VEVENT
END:VCALENDAR
