BEGIN:VCALENDAR
PRODID:-//eluceo/ical//2.0/EN
VERSION:2.0
CALSCALE:GREGORIAN
BEGIN:VEVENT
UID:05b62e5ec60dd6064f6a2a589d75fcfc
DTSTAMP:20260423T150253Z
SUMMARY:Online: Exekuce\, srážky ze mzdy
DESCRIPTION:Název akce: Online: Exekuce\, srážky ze mzdy\nURL: https://w
 ww.spcr.cz/online-exekuce-srazky-ze-mzdy-0\nPopis: \n\nSvaz průmyslu a do
 pravy ČR si Vás v rámci projektu „Podpora národního\, odvětvovéh
 o a regionálního sociálního dialogu v ČR“ dovoluje pozvat na online
  diskusní fórum\nEXEKUCE\, SRÁŽKY ZE MZDY\nCílem diskusního fóra je
  seznámit účastníky s novinkami v oblasti exekucí a zjistit jejich do
 pady do praxe.\n Program\n\nPrávní předpisy upravující postup při p
 rovádění srážek ze mzdy\nPříjmy\, z nichž se srážky provádějí
  - §§ 276\, 277 a 299 OSŘ\nSrážky bez souhlasu zaměstnance a se souh
 lasem zaměstnance\nSrážky přednostní a nepřednostní\nPojem vyživov
 aná osoba\nPostup při provádění srážek ze mzdy při souběhu exeku
 čních srážek a srážek na základě dohody\nSouběh exekucí a poměr
 ná úhrada dluhů\nDoručování exekučních titulů do datových schrá
 nek\nExekuce a dočasná pracovní neschopnost\, PPM – povinnosti vůči
  OSSZ a opačně\nNáhradní výživné\nChráněný účet\nInsolvenční
  zákon a insolvence fyzické osoby\nSoučinnost zaměstnavatele vůči in
 solvenčním správcům\, exekutorům\, soudům\nDiskuse\n\nČasový harmo
 nogram\n08:45 – 09:00    Připojení účastníků\n09:00 – 11:00 
    Informační blok + diskuse \nmoderátor\n\nJUDr. Monika Emanuelová
 \, právnička\, externí spolupracovnice Svazu průmyslu a dopravy ČR\n\
 nREALIZACE AKCE\nDiskusní fórum bude probíhat online na platformě ZOOM
 . Není nutná žádná instalace programu. Pro připojení se k diskusní
 mu fóru pro Vás bude dostačující odkaz\, který obdržíte od organiz
 átora akce nejpozději jeden pracovní den před konáním akce na e-mail
  uvedený v registraci. Účast na diskusním fóru bude umožněna pouze
  registrovaným osobám.\nRegistrace\nNa akci\, se\, prosím\, registrujte
  ZDE. \nOrgnizátorka\n\nKateřina Budínková\, telefon: 733 643 513 n
 ebo na e-mail: kbudinkova@spcr.cz\n
URL:https://www.spcr.cz/online-exekuce-srazky-ze-mzdy-0
DTSTART:20241015T090000
DTEND:20241015T110000
LOCATION:
END:VEVENT
END:VCALENDAR
