BEGIN:VCALENDAR
PRODID:-//eluceo/ical//2.0/EN
VERSION:2.0
CALSCALE:GREGORIAN
BEGIN:VEVENT
UID:179e0e6d716d0a05e799dac76927bb70
DTSTAMP:20260423T145950Z
SUMMARY:Setkání HR manažerů a personalistů Plzeňského kraje
DESCRIPTION:Název akce: Setkání HR manažerů a personalistů Plzeňské
 ho kraje\nURL: https://www.spcr.cz/setkani-hr-manazeru-personalistu-plzens
 keho-kraje\nPopis: \n\nChcete se orientovat v novelách zákonů? Zajíma
 jí vás pracovníci ze třetích zemí?  Přijďte diskutovat s odborní
 ky Svazu průmyslu a dopravy ČR\, Asociace institucí vzdělávání dosp
 ělých ČR\, Úřadu práce ČR a společnosti Grafia. Probereme novinky
  v legislativě\, aktuální situaci v oblasti kvalifikované pracovní s
 íly a dotovaného vzdělávání pracovníků.\n\nPodrobný program a reg
 istrace\n\nV případě dotazů se prosím obraťte na regionální kancel
 ář SP ČR pro Plzeňský a Jihočeský kraj Bc. Kamilu Babuškovou\, e-m
 ail: kbabuskova@spcr.cz\, mobil: 733 643 518.\n
URL:https://www.spcr.cz/setkani-hr-manazeru-personalistu-plzenskeho-kraje
DTSTART:20241024T090000
DTEND:20241024T123500
LOCATION:
END:VEVENT
END:VCALENDAR
