BEGIN:VCALENDAR
PRODID:-//eluceo/ical//2.0/EN
VERSION:2.0
CALSCALE:GREGORIAN
BEGIN:VEVENT
UID:3e2928c48d8397502b6e4d34572efc0e
DTSTAMP:20260423T130206Z
SUMMARY:Poradní sbor OIP Plzeňského kraje - aktuální poznatky z kontro
 l
DESCRIPTION:Název akce: Poradní sbor OIP Plzeňského kraje - aktuální 
 poznatky z kontrol\nURL: https://www.spcr.cz/poradni-sbor-oip-plzenskeho-k
 raje-aktualni-poznatky-z-kontrol\nPopis: \n\nSetkání zaměstnavatelů s 
 vedoucími zaměstnanci Oblastního inspektorátu práce pro Plzeňský kr
 aj a Karlovarský kraj se koná za účelem sdílení poznatků a zkušen
 ostí\, osvěty a prevence.\nHlavními tématy setkání bude bezpečnost
  práce\, pracovní vztahy a nelegální zaměstnávání. Od účastník
 ů akce je očekávána diskuse a sdílení zkušeností\, díky kterým b
 udou mít možnost lépe porozumět některým procesům a úkonům v obl
 asti kontroly ze strany inspekce práce a budou si moci odnést inspiraci 
 a poučení v zajišťování lepší bezpečnosti na pracovištích a do
 držování pracovně právních předpisů. Akce je pořádána rovněž
  za účelem rozvoje dialogu mezi zaměstnavateli a státní správou.\n\n
 \nPodrobný program a registrace\n\n\nV případě dotazů se prosím obra
 ťte na regionální kancelář SP ČR pro Plzeňský a Jihočeský kraj B
 c. Kamilu Babuškovou\, e-mail: kbabuskova@spcr.cz\, mobil: 733 643 518.\n
URL:https://www.spcr.cz/poradni-sbor-oip-plzenskeho-kraje-aktualni-poznatky
 -z-kontrol
DTSTART:20241017T090000
DTEND:20241017T120000
LOCATION:
END:VEVENT
END:VCALENDAR
