BEGIN:VCALENDAR
PRODID:-//eluceo/ical//2.0/EN
VERSION:2.0
CALSCALE:GREGORIAN
BEGIN:VEVENT
UID:a197bcf37faa8f74606710387d5e051c
DTSTAMP:20260423T124849Z
SUMMARY:Energetika kolem nás
DESCRIPTION:Název akce: Energetika kolem nás\nURL: https://www.spcr.cz/en
 ergetika-kolem-nas-0\nPopis: \n\n„Energetika kolem nás“ je název odb
 orné konference\, kterou pořádá Český svaz zaměstnavatelů v energ
 etice v rámci doprovodného programu 65. Mezinárodního strojírenskéh
 o veletrhu (MSV) v Brně ve čtvrtek 10. října 2024\, v pavilonu E\, s
 ál č. E4\, PRESS Centrum kongresová část\, 2. patro.\nHlavními téma
 ty jsou Státní energetická koncepce\, budoucí význam vodíku v teplá
 renství a digitalizace energetiky z hlediska bezpečnosti energetických
  provozů.\n\nProgram ke stažení\n\nVstup na konferenci je zdarma\, regi
 strovat se můžete na adrese jarouskova@csze.cz\, nebo na webových str
 ánkách ČSZE.\n
URL:https://www.spcr.cz/energetika-kolem-nas-0
DTSTART:20241010T090000
DTEND:20241010T120000
LOCATION:
END:VEVENT
END:VCALENDAR
