BEGIN:VCALENDAR
PRODID:-//eluceo/ical//2.0/EN
VERSION:2.0
CALSCALE:GREGORIAN
BEGIN:VEVENT
UID:e9d55a712b9bfd5b0add64840f8aedad
DTSTAMP:20260423T163004Z
SUMMARY:Živá knihovna povolání Česká Lípa
DESCRIPTION:Název akce: Živá knihovna povolání Česká Lípa\nURL: htt
 ps://www.spcr.cz/ziva-knihovna-povolani-ceska-lipa\nPopis: \n\nRozhoduješ
  se\, na jakou střední školu půjdeš? Čím chceš být? Napadlo tě\,
  kde můžeš po škole pracovat?Přijď si na vlastní kůži vyzkoušet 
 zajímavé profese! Seznam se s firmami ve tvém okolí a vyber si tu spr
 ávnou školu pro Tebe.S rozhodováním ti pomůže:- poradce pro volbu po
 volání – Úřad práce ČR KoP Česká Lípa- nástrojař – Preciosa
  - Lustry\, a.s. - mechatronik\, elektromechanik-elektronik – Fehrer Boh
 emia s.r.o. (závod ČL) - operátor výroby\, specialista kvality – Fes
 tool s.r.o.- konstruktér – Lasvit s.r.o.- svářeč kovů - Alstom Czec
 h Republic a.s.- stavbyvedoucí\, laborant\, technik kvality– COLAS CZ\,
  a.s.Bližší informace a kontakt pro registraci na telefonu 733 643 520.
 \n
URL:https://www.spcr.cz/ziva-knihovna-povolani-ceska-lipa
DTSTART:20241003T000000
DTEND:20241003T235959
LOCATION:
END:VEVENT
END:VCALENDAR
