BEGIN:VCALENDAR
PRODID:-//eluceo/ical//2.0/EN
VERSION:2.0
CALSCALE:GREGORIAN
BEGIN:VEVENT
UID:c96b5165631ba2b2e13b66fe4f372926
DTSTAMP:20260423T125843Z
SUMMARY:Živá knihovna povolání Jablonec
DESCRIPTION:Název akce: Živá knihovna povolání Jablonec\nURL: https://
 www.spcr.cz/ziva-knihovna-povolani-jablonec\nPopis: \n\nRozhoduješ se\, n
 a jakou střední školu půjdeš? Čím chceš být? Napadlo tě\, kde m
 ůžeš po škole pracovat?Přijď si na vlastní kůži vyzkoušet zajím
 avé profese! Seznam se s firmami ve tvém okolí a vyber si tu správnou 
 školu pro Tebe.S rozhodováním ti pomůže:• seřizovač – Preciosa 
 a.s.• kariérový poradce – ÚP ČR\, Krajská pobočka v Liberci\, Ko
 ntaktní pracoviště Jablonec nad Nisou• elektronik a elektromechanik 
 – ZF Automotive Czech s.r.o.• nástrojař\, CAD designer\, CNC obráb
 ěč a programátor – A.RAYMOND JABLONEC s.r.o.• procesní inženýr 
 – Cikautxo CZ s.r.o.• zdravotní sestra\, instrumentářka – Nemocni
 ce Jablonec nad Nisou\, p.o.• elektromontér – ČEZ Distribuce\, a.s.B
 ližší informace a kontakt pro registraci na telefonu 225 279 881 nebo 7
 33 643 520.\n
URL:https://www.spcr.cz/ziva-knihovna-povolani-jablonec
DTSTART:20241001T000000
DTEND:20241001T235959
LOCATION:
END:VEVENT
END:VCALENDAR
