BEGIN:VCALENDAR
PRODID:-//eluceo/ical//2.0/EN
VERSION:2.0
CALSCALE:GREGORIAN
BEGIN:VEVENT
UID:527068ea15c1bf1be7bde156bda8dcc3
DTSTAMP:20260423T125836Z
SUMMARY:Živá knihovna povolání Liberec
DESCRIPTION:Název akce: Živá knihovna povolání Liberec\nURL: https://w
 ww.spcr.cz/ziva-knihovna-povolani-liberec\nPopis: \n\nRozhoduješ se\, na 
 jakou střední školu půjdeš? Čím chceš být? Napadlo tě\, kde mů
 žeš po škole pracovat?Přijď si na vlastní kůži vyzkoušet zajímav
 é profese! Seznam se s firmami ve tvém okolí a vyber si tu správnou š
 kolu pro Tebe.\nS rozhodováním ti pomůže:- seřizovač – Preciosa a.
 s. - sales officer – Busch Výroba CZ s.r.o. - elektromontér – ČEZ D
 istribuce\, a.s.- seřizovač – DENSO Manufacturing Czech\, s.r.o.- lekt
 or/performer – IQLANDIA\, o.p.s. - elektronik – DGS Druckguss Systeme 
 s.r.o.- fyzioterapeut – Krajská nemocnice Liberec a.s.- měrový techni
 k laboratoře - Magna Exteriors (Bohemia) s.r.o.- mistr a stavby vedoucí 
 – Fehrr Bohemia s.r.o.Bližší informace a kontakt pro registraci na te
 lefonu 733 643 520.\n
URL:https://www.spcr.cz/ziva-knihovna-povolani-liberec
DTSTART:20240930T000000
DTEND:20240930T235959
LOCATION:
END:VEVENT
END:VCALENDAR
