BEGIN:VCALENDAR
PRODID:-//eluceo/ical//2.0/EN
VERSION:2.0
CALSCALE:GREGORIAN
BEGIN:VEVENT
UID:3663ae0bf460ead89c888464bc38d060
DTSTAMP:20260423T150253Z
SUMMARY:Čínsko-český podnikatelský summit
DESCRIPTION:Název akce: Čínsko-český podnikatelský summit\nURL: https
 ://www.spcr.cz/cinsko-cesky-podnikatelsky-summit\nPopis: \n\nVážené zá
 stupkyně a zástupci českého byznysu\,\nza Svaz průmyslu a dopravy ČR
  bychom Vás rádi pozvali na Čínsko-český podnikatelský summit\, kte
 rý se bude konat v předvečer 65. Mezinárodního strojírenského velet
 rhu (dále MSV) 7. října v budova "kongresák.space" na Brněnském výs
 tavišti. Cílem akce je podpořit podniky z České republiky a  další
 ch zemí z oblasti střední a východní Evropy prozkoumat a navázat nov
 é obchodní a investiční příležitosti v oblasti strojírenství s č
 ínskými protějšky.\nSummit pořádá Velvyslanectví Čínské lidové
  republiky v ČR a Ministerstvo průmyslu a obchodu ČR. Mezi spolupořada
 tele se zařadili CzechTrade\, Svaz průmyslu a dopravy ČR\, Hospodářsk
 á komora ČR\, Svaz strojírenské technologie\, Krajská hospodářská 
 komora pro jižní Moravu\, Hospodářská komora Brno\, Svaz podniků s 
 čínskými investicemi v ČR\, CCPIT Machinery Sub-Council\, Zhejiang Pro
 vince Department of Commerce\, CMEC International Exhibition Co. Ltd. Summ
 itu se zúčastní delegace více než 60 čínských vystavovatelů\, kte
 ří zatupují širokou škálu strojírenských segmentů\, jako jsou kov
 oobráběcí a tvářecí stroje a nástroje\, materiály a komponenty pro
  strojírenství\, plasty\, pryž a kompozity\, hydraulické a pneumatick
 é pohony\, energetika\, slévárenství\, svařování atd.. Členové de
 legace se zajímají nejen o rozšíření trhů a rozvoj distribučních 
 sítí\, ale hledají také možnosti získávání zdrojů a investic. Ak
 tuální seznam čínské delegace s představením jednotlivých firem je
  k dispozici zde. \nV rámci programu summitu budete mít možnost vyslec
 hnout projevy vedoucích představitelů vlády a průmyslu\, odborné pan
 elové diskuze o výhledu podnikatelského prostředí v oblasti strojíre
 nství a budete seznámeni s příběhy dobré praxe. V druhé části akc
 e budou rovněž uspořádány individuální B2B jednání a neformální
  networking.\nPředběžný program summitu naleznete zde. Chcete-li se za
 registrovat\, zašlete prosím registrační formulář na adresu cz@mofco
 m.gov.cn. Registrace je prodloužena do 4. října 2024.\nKontaktní osob
 ou na Svazu průmyslu a dopravy je zástupce ředitele Sekce mezinárodní
 ch vztahů Mikuláš Nozar\, mail: mnozar@spcr.cz\n
URL:https://www.spcr.cz/cinsko-cesky-podnikatelsky-summit
DTSTART:20241007T160000
DTEND:20241007T200000
LOCATION:
END:VEVENT
END:VCALENDAR
