BEGIN:VCALENDAR
PRODID:-//eluceo/ical//2.0/EN
VERSION:2.0
CALSCALE:GREGORIAN
BEGIN:VEVENT
UID:90fe514032b7e7ddf65b7ac5124dfb5c
DTSTAMP:20260423T125644Z
SUMMARY:20. ročník mezinárodní odborné konference ÚDRŽBA 2024
DESCRIPTION:Název akce: 20. ročník mezinárodní odborné konference ÚD
 RŽBA 2024\nURL: https://www.spcr.cz/20-rocnik-mezinarodni-odborne-konfere
 nce-udrzba-2024\nPopis: \n\nDovolujeme si Vás i Vaše známé pozvat na t
 radiční mezinárodní konferenci Údržba 2024\, kde se zaměříme na p
 roblematiku péče o hmotný majetek s cílem zajistit jeho bezpečný\, e
 kologický a ekonomický provoz do budoucna.\nI nadále zůstává základ
 ním cílem konference pravidelné setkání pracovníků a lidí se zájm
 em o rozvoj procesů údržby. Přijďte se s námi podělit o Vaše zkuš
 enosti a dobré nápady a pojďte si mezi námi najít kolegy se stejnou m
 otivací tvořit udržitelnou budoucnost.\n\nPodrobný program a registrac
 e na konferenci\n\nSP ČR poskytnul konferenci záštitu.\n
URL:https://www.spcr.cz/20-rocnik-mezinarodni-odborne-konference-udrzba-202
 4
DTSTART:20241016T000000
DTEND:20241017T235959
LOCATION:
END:VEVENT
END:VCALENDAR
