BEGIN:VCALENDAR
PRODID:-//eluceo/ical//2.0/EN
VERSION:2.0
CALSCALE:GREGORIAN
BEGIN:VEVENT
UID:9304b748e929ecb674b7f1632a858b00
DTSTAMP:20260423T125529Z
SUMMARY:Podnikatelská mise do Austrálie a na Nový Zéland
DESCRIPTION:Název akce: Podnikatelská mise do Austrálie a na Nový Zéla
 nd\nURL: https://www.spcr.cz/podnikatelska-mise-do-australie-na-novy-zelan
 d-0\nPopis: \n\nSvaz průmyslu a dopravy ČR (SP ČR) si Vás dovoluje inf
 ormovat o možnosti účasti v podnikatelské delegaci doprovázející p
 rezidenta České republiky Petra Pavla na jeho oficiální pracovní cest
 ě do Austrálie a na Nový Zéland. Podnikatelská mise se uskuteční v
  termínu 23. listopadu – 5. prosince 2024 a za Svaz průmyslu a doprav
 y ČR ji povede prezident Jan Rafaj.\nDelegace během cesty navštíví Sy
 dney\, Canberru a Adelaide v Austrálii\, Auckland a Wellington na Novém
  Zélandu. Na programu budou podnikatelská fóra\, B2B/B2G networking a d
 alší doprovodné programy v navštívených lokalitách\, které umožn
 í prohloubení a navázání kontaktů s místním podnikatelským prost
 ředím.\nÚčast v této podnikatelské misi je určena pro firmy a orga
 nizace\, které již v Austrálii či na Novém Zélandu investice a akt
 ivity mají\, nebo začínají nové konkrétní projekty. Prioritními s
 ektory pro tuto podnikatelskou misi jsou letectví\, kosmický průmysl\,
  kybernetická bezpečnost\, technologie\, výzkum a inovace.\nZálohová 
 cena za účast v podnikatelské delegaci je 225.000\,- Kč včetně DPH p
 ro nečleny a 190.000\,- Kč včetně DPH pro členy SP ČR. Obsah účast
 nického balíčku je rozepsán v přihlášce.\nV případě zájmu o ú
 čast Vás prosíme o následující:\n\nZaslání vyplněné\, podepsané
  a naskenované závazné přihlášky\nVyplnění elektronického registr
 ačního formuláře\, který obsahuje informace nezbytné pro Vaše uvede
 ní v katalogu podnikatelské mise\, vyhledání vhodných partnerů pro B
 2B networking\, ale i pro odbavení v letadle vládní letky či ubytován
 í v hotelu.\nZaslání skenu datové stránky vašeho pasu (platnost pa
 su min. 6 měsíců po návratu zpět do ČR)\nVyplnění jednoho vzorov
 ého snímku v powerpointu do společné prezentace\, která může být p
 romítána v rámci networkingových akcí\nZaslání profilové fotograf
 ie účastníka do katalogu firem (min. rozlišení 500 Kb\, 600 x 800 pi
 xelů)\n\nDokumenty zašlete na e-mail ijavorova@spcr.cz nejpozději do 
 1. října 2024 do 18:00.\nPři vyplňování profilu mějte prosím na pa
 měti\, že slouží jako podklad pro výběr místních firem a partnerů
  pro networking a také pro výrobu prezentačního tištěného katalogu 
 mise\, který budeme připravovat v angličtině a jehož cílem je co ne
 jlépe druhou stranu seznámit s profily a kontaktními údaji zúčastně
 ných firem. Prosíme proto o co nejkonkrétnější upřesnění Vašich 
 zájmů.\nDalší pokyny Vám sdělíme po obdržení Vaší závazné př
 ihlášky a provedení elektronické registrace.  Informace Vám budeme p
 růběžně zasílat elektronickou poštou\, včetně zálohové faktury n
 a účastnický poplatek pro firmy zařazené do podnikatelské delegace.
  \nVzhledem k omezené kapacitě prosíme o včasnou registraci. Pořadat
 elé si vyhrazují právo odmítnout zájemce o účast s ohledem na vhodn
 ost oborového zaměření a v případě převisu poptávky nad počtem m
 íst v letadle. Děkujeme za pochopení.\nPodnikatelskou misi organizačn
 ě zajišťuje manažerka Sekce vnějších vztahů Ivana Javorová (email
 : ijavorova@spcr.cz\, tel. 778 969 365). V případě jakýchkoliv dota
 zů nás neváhejte kontaktovat.\nTěšíme se na Vaši účast.\n  \nV
 íce o navštívených teritoriích a obchodních příležitostech v nic
 h najdete pod odkazy níže:\nBusinessInfo – Austrálie\nBusinessInfo 
 – Nový Zéland\n \n
URL:https://www.spcr.cz/podnikatelska-mise-do-australie-na-novy-zeland-0
DTSTART:20241123T080000
DTEND:20241205T170000
LOCATION:
END:VEVENT
END:VCALENDAR
