BEGIN:VCALENDAR
PRODID:-//eluceo/ical//2.0/EN
VERSION:2.0
CALSCALE:GREGORIAN
BEGIN:VEVENT
UID:030476bd86c58e57258e2c282dc45757
DTSTAMP:20260423T163341Z
SUMMARY:Asian Logistics\, Maritime and Aviation Conference
DESCRIPTION:Název akce: Asian Logistics\, Maritime and Aviation Conference
 \nURL: https://www.spcr.cz/asian-logistics-maritime-and-aviation-conferenc
 e\nPopis: \n\nrádi bychom Vás informovali\, že se ve dnech 18.-19.11.2
 024 opět uskuteční logistická konference Asian Logistics\, Maritime 
 and Aviation Conference (ALMAC). Jedná se o jednu z nejvýznamnějších
  událostí svého druhu v Asii propojující profesionály z oblasti log
 istiky a všech částí dodavatelského řetězce.\nLetošní konference 
 s názvem ”Shaping the Future of Supply Chains: Resilience and Sustaina
 bility” se zaměří na následující témata:\n\nMegatrendy v globá
 lním obchodu a dodavatelských řetězcích\nNové obchodní trasy\nDiver
 zifikace dodavatelského řetězce\nUdržitelnost a zelená energie\nInova
 ce a technologie\n\n\nNávštěvníci této logistické konference se moho
 u těšit na rozmanitý program zaměřený na hlavní témata současné 
 logistiky a obchodu. Na programu budou přednášky a diskuse o tom\, jak 
 efektivně budovat dodavatelské řetězce a obchodní trasy a jak lépe 
 čelit výzvám dnešní doby. Účastníci se dozvědí\, jak mohou inova
 ce a digitalizace zlepšit logistické operace\, a získají příležitos
 t prozkoumat nové možnosti v oblasti halal logistiky a udržitelnosti. S
 oučástí konference budou také workshopy zaměřené na zelenou energii
 \, environmentální a sociální otázky\, corporate governance\, e-comme
 rce a zlepšení omni-channel strategií. Zvláštní pozornost bude věno
 vána podpoře mladých talentů a možnostem rozvoje kariéry v logistice
 . Chybět nebudou ani příležitosti k business matchingu a networkingu.\
 n\nPražská pobočka HKTDC má možnost nabídnout omezený počet voln
 ých vstupů na akci – pokud plánujete navštívit tuto konferenci neb
 o Vás zajímají logistická témata\, neváhejte nás neprodleně kont
 aktovat (běžná cena za vstup je 250 USD\, tato nabídka je časově ome
 zená)!\nV případě potřeby se na nás neváhejte obrátit.\nKontakt:\
 nSandra BogarováHKTDC Prague Consultant OfficeHead of HKTDC for CZ & SKN
 a Kocínce 3\, Praha 6Czech Republictel +420 233 323 514mob +420 733 
 640 663http://www.hktdc.czLinkedIn – HKTDC Prague\n
URL:https://www.spcr.cz/asian-logistics-maritime-and-aviation-conference
DTSTART:20241118T000000
DTEND:20241119T235959
LOCATION:
END:VEVENT
END:VCALENDAR
