BEGIN:VCALENDAR
PRODID:-//eluceo/ical//2.0/EN
VERSION:2.0
CALSCALE:GREGORIAN
BEGIN:VEVENT
UID:6906f3b6ea2c63959befa45f158a06c8
DTSTAMP:20260423T145923Z
SUMMARY:Úvodní seminář k nařízení o ekodesignu udržitelných výr
 obků
DESCRIPTION:Název akce: Úvodní seminář k nařízení o ekodesignu ud
 ržitelných výrobků\nURL: https://www.spcr.cz/uvodni-seminar-k-narizeni
 -o-ekodesignu-udrzitelnych-vyrobku\nPopis: \n\nMinisterstvo průmyslu a ob
 chodu se Svazem průmyslu a dopravy ČR vás zvou na seminář k ekodesign
 u.\nCílem semináře je představit nově přijaté nařízení zaintere
 sovaným stranám\, seznámit je s požadavky\, jaké bude nařízení k
 lást na výrobky\, nastínit harmonogram náběhu účinnosti nových po
 žadavků\, pobídnout zainteresované strany k účasti na konzultacíc
 h v rámci tvorby aktů v přenesené pravomoci Komise a navázat vzá
 jemný kontakt. Kromě možnosti seznámení se s novými legislativním
 i požadavky poskytne seminář prostor pro otázky a vzájemnou diskuzi.
    \nOficiální pozvánku s podrobným programem obdržíte ve dru
 hé polovině září. Již nyní se však můžete hlásit na tuto akci
 \, a to emailem na adresu ekodesign@mpo.gov.cz.  Na této emailové adre
 se můžete MPO kontaktovat i v případě jakýchkoli dotazů k této
  akci či problematice ekodesignu obecně.\nKontaktní osobou za Svaz prů
 myslu a dopravy ČR je Dagmar Endrlová (dendrlova@spcr.cz).\n
URL:https://www.spcr.cz/uvodni-seminar-k-narizeni-o-ekodesignu-udrzitelnych
 -vyrobku
DTSTART:20241003T100000
DTEND:20241003T120000
LOCATION:
END:VEVENT
END:VCALENDAR
