BEGIN:VCALENDAR
PRODID:-//eluceo/ical//2.0/EN
VERSION:2.0
CALSCALE:GREGORIAN
BEGIN:VEVENT
UID:abe2d9f5cc55e564a166d77f9c6dc6c9
DTSTAMP:20260423T162622Z
SUMMARY:Podzimní plynárenská konference
DESCRIPTION:Název akce: Podzimní plynárenská konference\nURL: https://w
 ww.spcr.cz/podzimni-plynarenska-konference\nPopis: \n\nSoučasné výzvy e
 nergetiky vyžadují nová řešení. Role plynů v národním energetick
 ém mixu i v kontextu Evropy se stává stále důležitější\, zejména
  s ohledem na dekarbonizaci a rozvoj zelených plynů. I o tom se bude hov
 ořit na jubilejním 30. ročníku Podzimní plynárenské konference\, kt
 erý proběhne 23. - 24. října v Grandhotelu Pupp v Karlových Varech. J
 ako už tradičně půjde o místo setkání několika stovek odborníků 
 z oboru\, státní správy a průmyslu s prostorem pro diskuze i networkin
 g.\n\nProgram konference a registrace: https://ppk.cgoa.cz/\n\nSvaz prům
 yslu a dopravy ČR poskytnul konferenci záštitu.\n
URL:https://www.spcr.cz/podzimni-plynarenska-konference
DTSTART:20241023T000000
DTEND:20241024T235959
LOCATION:
END:VEVENT
END:VCALENDAR
