BEGIN:VCALENDAR
PRODID:-//eluceo/ical//2.0/EN
VERSION:2.0
CALSCALE:GREGORIAN
BEGIN:VEVENT
UID:736af8f0b4a8985742c72b56f2084b13
DTSTAMP:20260423T124856Z
SUMMARY:Česko-korejské podnikatelské fórum
DESCRIPTION:Název akce: Česko-korejské podnikatelské fórum\nURL: https
 ://www.spcr.cz/cesko-korejske-podnikatelske-forum\nPopis: \n\nSvaz průmy
 slu a dopravy ČR a Hospodářská komora ČR si Vás dovolují pozvat n
 a Business fórum při příležitosti návštěvy jihokorejského prezid
 enta Jun Sok-jola. Akce se koná pod záštitou Ministerstva průmyslu
  a obchodu ČR a uskuteční se dne 20. září 2024 od 08:00 v konferen
 čním sále hotelu Hilton\, Pobřežní 311/1\, Praha 1. Druhá část p
 rogramu se bude konat od 13:00 v hotelu Marriott\, kde budou probíhat B2B
  meetingy\, na které je potřeba se dopředu zaregistrovat.\nNa zahájen
 í vystoupí prezident České republiky Petr Pavel\, jihokorejský prezid
 ent Yoon Suk-Yeol\, prezident Svazu průmyslu a dopravy ČR Jan Rafaj\, p
 rezident Hospodářské komory ČR Zdeněk Zajíček a další významní 
 hosté. Účast na akci představuje jedinečnou příležitost seznámit 
 se s korejskými protějšky českého businessu a státní správy.\nJe
 dnacím jazykem business fóra je angličtina. Program akce najdete zde.
 Účast na celé akci je zdarma\, ale je nutné se přihlásit skrze tento
  registrační formulář.\nPro účast na odpoledním B2B meetingu\, kter
 é pořádá Korejská agentura na podporu obchodu a investic (KOTRA) je 
 potřeba se registrovat na tomto odkaze. Pro více informací kontaktujte
  manažera Sekce vnějších vztahů Dominika Jozu (email: djoza@spcr.cz\
 , tel. 733 126 501).Těšíme se na Vaši účast.\n
URL:https://www.spcr.cz/cesko-korejske-podnikatelske-forum
DTSTART:20240920T080000
DTEND:20240920T170000
LOCATION:
END:VEVENT
END:VCALENDAR
