BEGIN:VCALENDAR
PRODID:-//eluceo/ical//2.0/EN
VERSION:2.0
CALSCALE:GREGORIAN
BEGIN:VEVENT
UID:5219e10886cff19365d54a8f6ae4b616
DTSTAMP:20260423T125705Z
SUMMARY:Seminář k nařízení o ekodesignu
DESCRIPTION:Název akce: Seminář k nařízení o ekodesignu\nURL: https
 ://www.spcr.cz/seminar-k-narizeni-o-ekodesignu\nPopis: \n\nCílem seminá
 ře je představit nově přijaté nařízení o ekodesignu udržitelných
  výrobků Nařízení o ekodesignu zainteresovaným stranám\, seznámit 
 je s požadavky\, jaké bude nařízení klást na výrobky\, nastínit 
 harmonogram náběhu účinnosti nových požadavků\, pobídnout zaintere
 sované strany k účasti na konzultacích v rámci tvorby aktů v p
 řenesené pravomoci Komise a navázat vzájemný kontakt. Kromě možnost
 i seznámení se s novými legislativními požadavky poskytne seminář
  prostor pro otázky a vzájemnou diskuzi.Hlaste se na ekodesign@mpo.gov.c
 z.V případě dalších dotazů se obraťte na Dagmar Endrlovou (dendrlov
 a@spcr.cz).\n
URL:https://www.spcr.cz/seminar-k-narizeni-o-ekodesignu
DTSTART:20241003T100000
DTEND:20241003T120000
LOCATION:
END:VEVENT
END:VCALENDAR
