BEGIN:VCALENDAR
PRODID:-//eluceo/ical//2.0/EN
VERSION:2.0
CALSCALE:GREGORIAN
BEGIN:VEVENT
UID:3bc23cc3a00c0e4ae60fab57980d3c97
DTSTAMP:20260423T145025Z
SUMMARY:Invest Srpska 2024
DESCRIPTION:Název akce: Invest Srpska 2024\nURL: https://www.spcr.cz/inves
 t-srpska-2024\nPopis: \n\nThe Investment-Development Bank of the Republic 
 of Srpska\, in cooperation with the Government of the Republic of Srpska a
 nd with the support of the President of the Republic of Srpska\, Mr. Milor
 ad Dodik\, will be hosting a two-day investment event titled “Invest Srp
 ska”. This event\, held under the slogan “Explore\, Discuss\, Invest
 ”\, will take place at the “Termag” Hotel complex on the Olympic mou
 ntain Jahorina\, from November 12 to 13\, 2024.\nThe Letter of Invitation 
 for companies and  investors\, as potential participants in the "Invest S
 rpska" event\,  can be found in the attachment. Along with the invitation
 \, we are also providing a link to a promotional video about the Republic 
 of Srpska (www.youtube.com/watch?app=desktop&v=p0K55JOfmqs&t=5s)\, which o
 ffers a closer look at the beauty of our country.\nYou can confirm your pa
 rticipation through the online platform www.investsrpskaforum.com or by ca
 lling the phone number +387 51 334 786.\nA detailed Agenda will be publish
 ed on our online platform www.investsrpskaforum.com and provided to regist
 ered participants.\nRegarding hotel accommodation for the guests of “Inv
 est Srpska”\,  we warmly recommend the “Termag” Hotel (www.termagho
 tel.com/en/)\, as it has been chosen as the venue for the mentioned event.
 \n
URL:https://www.spcr.cz/invest-srpska-2024
DTSTART:20241112T080000
DTEND:20241113T170000
LOCATION:
END:VEVENT
END:VCALENDAR
