BEGIN:VCALENDAR
PRODID:-//eluceo/ical//2.0/EN
VERSION:2.0
CALSCALE:GREGORIAN
BEGIN:VEVENT
UID:483af3901d6c189bbf5384d5694b3999
DTSTAMP:20260423T162941Z
SUMMARY:Ukrajina - aktuální příležitosti pro české exportéry (Plze
 ň)
DESCRIPTION:Název akce: Ukrajina - aktuální příležitosti pro české 
 exportéry (Plzeň)\nURL: https://www.spcr.cz/ukrajina-aktualni-prilezitos
 ti-pro-ceske-exportery-plzen\nPopis: \n\nAnotace:\nOksana Antonenko\, řed
 itelka zahraniční kanceláře CzechTrade v KyjevěVojtěch Vraspír\, ř
 editel zahraniční kanceláře CzechTrade ve Lvově\n\nPraktické informa
 ce pro české exportéry zajímající se o ukrajinský trh\nAnalýza akt
 uální situace v zemi se zaměřením na současné ekonomické klima na
  Ukrajině\nDopady války na český export a jednotlivá odvětví místn
 í ekonomiky\nPřehled odvětví místní ekonomiky stále vykazující po
 zitivní dynamiku vývozu\nObory a projekty\, které jsou perspektivní pr
 o export z ČR v době válečného stavu\nPlánované akce a podnikatel
 ské mise na Ukrajinu a akce s účastí ukrajinských podnikatelů v ČR
 \nPraktické tipy pro obchodování\, zaplacení a přepravu dodávek\, po
 dnikání obchodních cest\, organizace jednání s obchodními partnery\n
 Informace o státních iniciativách a programech na podporu podnikání v
  Ukrajině\nSlužby zahraničních kanceláří CzechTrade v Ukrajině p
 ro české exportéry\n\n \nVilém Řehák\, InvestEU/EFSD+ Expert\, Sekc
 e Obchod\, Národní rozvojová banka\n\nZapojení Národní rozvojové ba
 nky do rekonstrukce Ukrajiny (The Ukraine Facility)\n\n \nMonika Šimůnk
 ová Hošková\, advokátka\, kancelář PETERKA & PARTNERS\n\nJak na zru
 šení\, založení podniku\, jmenování nového vedení v ukrajinské po
 bočce v době válečného stavu?\nJak je třeba nahlásit škodu\, kter
 á vznikla firmě v důsledku válečných událostí?\nJaké jsou povinno
 sti zaměstnavatele\, pokud zaměstnanec narukoval do armády? Existuje mo
 žnost „zabookovat“ zaměstnance ve výrobě?\nJak probíhají platby 
 a dodávky zboží ukrajinskému zákazníkovi\, jaké dodatečné podklad
 y vyžadují ukrajinské banky?\n Další důležité změny pro mezinár
 odní obchod a působení podniků\, které vznikly v poslední době.\n\n
 Registrace na akci je dostupná přímo na stránkách CzechTrade. \n
URL:https://www.spcr.cz/ukrajina-aktualni-prilezitosti-pro-ceske-exportery-
 plzen
DTSTART:20241007T133000
DTEND:20241007T153000
LOCATION:
END:VEVENT
END:VCALENDAR
