BEGIN:VCALENDAR
PRODID:-//eluceo/ical//2.0/EN
VERSION:2.0
CALSCALE:GREGORIAN
BEGIN:VEVENT
UID:e2c7ecb0e9e3e942c254e287873b4f16
DTSTAMP:20260423T163303Z
SUMMARY:Veletrh podpory podnikání v Jihomoravském kraji
DESCRIPTION:Název akce: Veletrh podpory podnikání v Jihomoravském kraji
 \nURL: https://www.spcr.cz/veletrh-podpory-podnikani-v-jihomoravskem-kraji
 \nPopis: \n\nRádi bychom vás pozvali na veletrh\, kde budete mít možno
 st konzultovat financování vašich projektů a další naše odborné sl
 užby\, které vám pomohou v rozvoji firmy.\nPředstavíme vám aktuáln
 í služby pro startupy\, malé a střední výrobní firmy i pro velké t
 echnologické společnosti. Seznámíme vás s možnostmi dotačního a ne
 dotačního financování vašich projektů. Neopomeneme ani výzkumné pr
 ojekty a exportní služby.\nVeletrhu podpory podnikání se jako konzultu
 jící subjekty účastní Agentura CzechInvest\, Agentura pro podnikání
  a inovace API\, Česká agentura na podporu obchodu / CzechTrade\, Úřad
  Průmyslového Vlastnictví\, Technologická agentura ČR a Národní roz
 vojová banka.\nPozvánka na akci je k dispozici zde. \nLink na registrac
 i + více info k akci je zde. \n
URL:https://www.spcr.cz/veletrh-podpory-podnikani-v-jihomoravskem-kraji
DTSTART:20240925T100000
DTEND:20240925T140000
LOCATION:
END:VEVENT
END:VCALENDAR
