BEGIN:VCALENDAR
PRODID:-//eluceo/ical//2.0/EN
VERSION:2.0
CALSCALE:GREGORIAN
BEGIN:VEVENT
UID:20c0f65fefc978a64999559450034f7e
DTSTAMP:20260423T125316Z
SUMMARY:Understanding China Conference
DESCRIPTION:Název akce: Understanding China Conference\nURL: https://www.s
 pcr.cz/understanding-china-conference\nPopis: \n\nUnderstanding China Conf
 erence\n\n\n\n\n\n\n\n\n\n\n\n\n\n\nIn Brussels & Online\n29–30 October 
 2024\n\n\n\n\n\n\n\n\n\n\n\n\n\n\nDear partner\,\nWe are delighted to invi
 te you to attend our annual flagship event\, the Understanding China Confe
 rence\, on 29 and 30 October 2024. You can now register to join the event
  in Brussels or online.\nThe first day will bring insights from policymake
 rs\, economists\, industry experts\, and think-tank analysts into EU-China
  trade relations\, China’s economic outlook\, the current policy environ
 ment\, green technology’s rise and trends\, and how these factors impact
  European SMEs.\nOn the second day\, we will narrow in on business informa
 tion and best practices for SMEs in China. Presentations will include an a
 ssessment of free-trade zones and new recommendations on IP protection\, w
 ith case studies of enterprises already active in the Chinese market.\nKey
  Highlights:\nTuesday 29 OctoberChina’s Economic OutlookEU-China Trade R
 elationsChina Policy Environment and Business ConfidenceGreen TechnologyNe
 tworking Cocktail \nWednesday 30 OctoberAssessing Free-Trade Zones in Chi
 naIP Protection – New IPR Insights for SMEsCase Studies of European SMEs
  in the Chinese Market\n
URL:https://www.spcr.cz/understanding-china-conference
DTSTART:20241029T000000
DTEND:20241030T235959
LOCATION:
END:VEVENT
END:VCALENDAR
