BEGIN:VCALENDAR
PRODID:-//eluceo/ical//2.0/EN
VERSION:2.0
CALSCALE:GREGORIAN
BEGIN:VEVENT
UID:688882e1be3dcbb682724e089c3b83e9
DTSTAMP:20260423T125131Z
SUMMARY:Online seminář k portálu Access2Markets
DESCRIPTION:Název akce: Online seminář k portálu Access2Markets\nURL: h
 ttps://www.spcr.cz/online-seminar-k-portalu-access2markets\nPopis: \n\nRá
 di bychom Vás pozvali na online seminář k portálu Access2Markets (A2M
 ) připravovaný Ministerstvem průmyslu a obchodu.\nSeminář pořádaný
  Evropskou komisí se uskuteční dne 23. 9. 2024 od 10 – 12:30 hodin. V
  rámci tohoto semináře Komise portál A2M představí\, včetně jeho 
 částí týkajících se dovozů\, vývozů a překážek obchodu a bude 
 se věnovat i nástrojům Single Entry Point\, ROSA (Rules of Origin self-
 assesment)\, Access2Procurement a rozšíření nástroje v oblasti služ
 eb a investic. Seminář proběhne v angličtině s tlumočením do češ
 tiny. Detaily k semináři a i podrobnosti\, jak se na seminář přihlás
 it\, naleznete na následujícím odkazu: https://rb.gy/r2kpkk.  \nV př
 ípadě dotazů se neváhejte obrátit na Pavlínu Shaw pavlina.shaw@mpo.
 gov.cz nebo Zuzanu Benešovou (zuzana.benesova@mpo.gov.cz).\n
URL:https://www.spcr.cz/online-seminar-k-portalu-access2markets
DTSTART:20240923T100000
DTEND:20240923T123000
LOCATION:
END:VEVENT
END:VCALENDAR
