BEGIN:VCALENDAR
PRODID:-//eluceo/ical//2.0/EN
VERSION:2.0
CALSCALE:GREGORIAN
BEGIN:VEVENT
UID:99cff2505939148e5d8f3417e7f48e6d
DTSTAMP:20260423T150340Z
SUMMARY:Možnosti fotovoltaiky v podnicích aneb jak snížit náklady na e
 nergie a uhlíkovou stopu
DESCRIPTION:Název akce: Možnosti fotovoltaiky v podnicích aneb jak sní
 žit náklady na energie a uhlíkovou stopu\nURL: https://www.spcr.cz/mozn
 osti-fotovoltaiky-v-podnicich-aneb-jak-snizit-naklady-na-energie-uhlikovou
 -stopu\nPopis: \n\nŘešíte ve firmě\, jak snížit svou uhlíkovou stop
 u nebo snížit náklady na energie? Jednou z cest může být instalace f
 otovoltaiky. Nejste si však jistí\, co to obnáší a na co si dát pozo
 r? Nebo naopak máte realizaci za sebou? Přijďte diskutovat ke kulatému
  stolu Svazu průmyslu a dopravy ČR\, Okresní hospodářské komory Libe
 rec a Solární asociace. Probereme příslušnou legislativu\, aktuální
  situaci v oblasti FVE či možnosti financování projektu. Zmíníme tak
 é jak je to s připojováním a přetoky\, požadavky na statiku či pož
 ární bezpečností. Zástupci firem se s vámi podělí o jejich přím
 é zkušenosti s fotovoltaickou instalací.ČASOVÝ HARMONOGRAM09:45 – 1
 0:00 Registrace účastníků10:00 – 10:10 Úvodní slovo\n\nNaďa Vojt
 íšková\, regionální manažerka SP ČR\n\n10:10 – 10:30 Klimaticko-e
 nergetické cíle a role FVE\n\nTomáš Trubačík\, Manažer pro Green De
 al SP ČR\n\n10:30 – 11:15 Fotovoltaika v průmyslu – co vás čeká a
  na co si dát pozor\n\nOndřej Žídek\, Solární asociace\n\n11:15 – 
 11:30 Coffee break11:30 – 11:50 Dostupná podpora pro fotovoltaické ins
 talace\n\nZástupce SFŽP\n\n11:50 – 12:25 Realizované projekty\, zkuš
 enosti firem a diskuze 12:25 – 12:30 ZávěrREGISTRACENa setkání se pr
 osím přihlaste ZDE nejpozději do 9. září 2024.V případě dotazů s
 e prosím obraťte na regionální manažerku SP ČR\, Naďu Vojtíškovou
  (tel: 733 643 520 nebo na e-mail: nvojtiskova@spcr.cz).\n
URL:https://www.spcr.cz/moznosti-fotovoltaiky-v-podnicich-aneb-jak-snizit-n
 aklady-na-energie-uhlikovou-stopu
DTSTART:20240912T100000
DTEND:20240912T123000
LOCATION:
END:VEVENT
END:VCALENDAR
