BEGIN:VCALENDAR
PRODID:-//eluceo/ical//2.0/EN
VERSION:2.0
CALSCALE:GREGORIAN
BEGIN:VEVENT
UID:d39df3fad1bf914a321a5153b4cf15a9
DTSTAMP:20260423T162819Z
SUMMARY:Meeting Point CzechTrade na MSV v Brně 2024
DESCRIPTION:Název akce: Meeting Point CzechTrade na MSV v Brně 2024\nURL:
  https://www.spcr.cz/meeting-point-czechtrade-na-msv-v-brne-2024\nPopis: \
 n\nIndividuální termínované konzultace k rozvoji podnikání v zahran
 ičí s 20 řediteli zahraničních kanceláří CzechTrade\nZískejte 
 odpovědi na otázky:\n\nJak najít vhodného obchodního partnera v zahra
 ničí?\nJakou strategii zvolit při vstupu na trh?\nJaké jsou konkrétn
 í příležitosti ve vašem oboru?\n\nBěhem konzultací získáte cenné
  rady ohledně vhodných strategií pro vstup na nové trhy\, konkrétníc
 h obchodních příležitostí ve vašem oboru a tipy na nalezení spolehl
 ivého obchodního partnera. Můžete také prodiskutovat své šance na 
 úspěch ve vybraných zemích a získat doporučení nejefektivnějších
  kroků.\nŘeditelé zahraničních kanceláří CzechTrade působí dlouh
 odobě přímo v jednotlivých teritoriích a dokonale znají místní trh
 y\, obchodní podmínky\, kulturní zvyklosti\, jazyk i klíčové kontakt
 y. Pomáhají exportérům překonávat překážky a otevírat dveře k n
 ovým příležitostem\, které by samostatně bylo obtížné dosáhnout.
 \nKonzultace poskytnou také odborníci z Klientského centra pro export\
 , které je společnou aktivitou Ministerstva průmyslu a obchodu\, Minist
 erstva zahraničních věcí a agentury CzechTrade.Další konzultace firm
 ám poskytnou specialistky Design Centra CzechTrade\, které je národní
  platformou státní podpory designu.\n ORGANIZAČNÍ INFORMACE\n\n Při
 hlásit se můžete až na pět zemí.\nKonzultace jsou individuální a d
 élka jedné je 30 minut.\nÚčast na akci je zdarma\, avšak je nutná p
 ředchozí rezervace.\nPo odeslání přihlášky vás bude kontaktovat
  exportní konzultant CzechTrade a upřesní konkrétní termíny vašic
 h jednání.\nNapište nám pokud potřebujete vstupenku na Mezinárodní 
 strojírenský veletrh v Brně.\n\nVíce informací k akci včetně kontak
 tní osoby naleznete na webu CzechTrade. \n
URL:https://www.spcr.cz/meeting-point-czechtrade-na-msv-v-brne-2024
DTSTART:20241010T000000
DTEND:20241010T235959
LOCATION:
END:VEVENT
END:VCALENDAR
