BEGIN:VCALENDAR
PRODID:-//eluceo/ical//2.0/EN
VERSION:2.0
CALSCALE:GREGORIAN
BEGIN:VEVENT
UID:d6274830247b78f422848b0c95a0622b
DTSTAMP:20260423T163005Z
SUMMARY:Fotovoltaika v podnicích aneb Jak snížit náklady na energie a u
 hlíkovou stopu
DESCRIPTION:Název akce: Fotovoltaika v podnicích aneb Jak snížit nákla
 dy na energie a uhlíkovou stopu\nURL: https://www.spcr.cz/fotovoltaika-v-
 podnicich-aneb-jak-snizit-naklady-na-energie-uhlikovou-stopu\nPopis: \n\n
 Řešíte ve firmě jak snížit svou uhlíkovou stopu nebo snížit nákl
 ady na energie? Jednou z cest může být instalace fotovoltaiky. Nejste s
 i však jistí\, co to obnáší a na co si dát pozor? Nebo naopak máte 
 realizaci za sebou? Přijďte diskutovat ke kulatému stolu Svazu průmysl
 u a dopravy a Solární asociace.\nProbereme příslušnou legislativu\, a
 ktuální situaci v oblasti FVE či možnosti financování projektu. Zmí
 níme také jak je to s připojováním a přetoky\, požadavky na statiku
  či požární bezpečností. Zástupci firem se s vámi podělí o jejic
 h přímé zkušenosti s fotovoltaickou instalací.\nDiskutovat s Vámi bu
 dou zástupci Svazu průmyslu a dopravy ČR\, Solární asociace\, Státn
 ího fondu životního prostředí\, Národní rozvojové banky\, Agentury
  pro podnikání a inovace a regionálních firem.\nČASOVÝ HARMONOGRAM\n
 09:30 – 10:00   Prezence účastníků10:00 – 10:10   Úvodní slo
 vo10:10 – 10:30   Klimaticko-energetické cíle a role FVE10:30 – 11
 :15   Fotovoltaika v průmyslu – co vás čeká a na co si dát pozor1
 1:15 – 11:30   coffee break11:30 – 11:50   Dostupná podpora pro f
 otovoltaické instalace11:50 – 12:30   Realizované projekty - zkušen
 osti firem\, diskuze12:30                 Závěr\nREGISTRACE:\nN
 a setkání se prosím přihlaste ZDE nejpozději do 13. září 2024.\nV 
 případě dotazů se prosím obraťte na regionální kancelář SP ČR p
 ro Ústecký a Karlovarský kraj Ing. Radku Bartíkovou\, e-mail: rbartiko
 va@spcr.cz\, mobil: 731 411 179\n
URL:https://www.spcr.cz/fotovoltaika-v-podnicich-aneb-jak-snizit-naklady-na
 -energie-uhlikovou-stopu
DTSTART:20240918T100000
DTEND:20240918T123000
LOCATION:
END:VEVENT
END:VCALENDAR
