BEGIN:VCALENDAR
PRODID:-//eluceo/ical//2.0/EN
VERSION:2.0
CALSCALE:GREGORIAN
BEGIN:VEVENT
UID:ee5092b7df21587dc1ec940fe6684d53
DTSTAMP:20260423T125837Z
SUMMARY:Pozvánka na Investiční fórum v Římě
DESCRIPTION:Název akce: Pozvánka na Investiční fórum v Římě\nURL: h
 ttps://www.spcr.cz/pozvanka-na-investicni-forum-v-rime\nPopis: \n\nVe dnec
 h 15. - 17. října 2024 se v Římě za účasti zástupců z více než
  30 zemí uskuteční třetí ročník Investičního fóra.\nAkci organiz
 uje Organizace OSN pro výživu a zemědělství (FAO) a jejím cílem je 
 prezentace investičních příležitostí zúčastněných zemí investor
 ům\, mnohostranným rozvojovým bankám\, soukromému sektoru a dárcům 
 se zaměřením na investiční potenciál v oblasti národních zeměděl
 ských a potravinářských investičních příležitostí.\nPodrobnosti 
 o akci a možnost registrace najdete na stránkách zde: https://www.fao.o
 rg/hand-in-hand/hih-IF-2024/en\n \n
URL:https://www.spcr.cz/pozvanka-na-investicni-forum-v-rime
DTSTART:20241015T080000
DTEND:20241017T170000
LOCATION:
END:VEVENT
END:VCALENDAR
