BEGIN:VCALENDAR
PRODID:-//eluceo/ical//2.0/EN
VERSION:2.0
CALSCALE:GREGORIAN
BEGIN:VEVENT
UID:ef401d0fdaa7aa31ee7fc7365f471e4d
DTSTAMP:20260423T130206Z
SUMMARY:Pozvánka na World Food Forum v Římě
DESCRIPTION:Název akce: Pozvánka na World Food Forum v Římě\nURL: http
 s://www.spcr.cz/pozvanka-na-world-food-forum-v-rime\nPopis: \n\nVe dnech 1
 4. - 18. října 2024 se v sídle Organizace OSN pro výživu a zeměděls
 tví (FAO) v italském Římě koná World Food Forum (WFF - Světové pot
 ravinové fórum). Cílem této globální platformy je utváření zeměd
 ělsko-potravinářských systémů pro lepší potravinovou budoucnost a 
 plnění cílů udržitelného rozvoje.\nNa akci se setkají světoví odb
 orníci\, politici\, vědci\, zástupci z oboru vzdělávání\, kultury 
 či investic\, kteří budou diskutovat o mezinárodní spolupráci\, věd
 ě a inovacích či investicích. Součástí bude také dialog o vodě i 
 fórum zaměřené na rodinné farmy. Podrobnější informace o programu
  najdete na stránkách zde. Možnost registrace je na odkaze zde.\n \n
URL:https://www.spcr.cz/pozvanka-na-world-food-forum-v-rime
DTSTART:20241014T080000
DTEND:20241018T170000
LOCATION:
END:VEVENT
END:VCALENDAR
