BEGIN:VCALENDAR
PRODID:-//eluceo/ical//2.0/EN
VERSION:2.0
CALSCALE:GREGORIAN
BEGIN:VEVENT
UID:17e23951d268c98870e87974354935f8
DTSTAMP:20260423T162959Z
SUMMARY:2nd China International Supply Chain Expo (CISCE)
DESCRIPTION:Název akce: 2nd China International Supply Chain Expo (CISCE)\
 nURL: https://www.spcr.cz/2nd-china-international-supply-chain-expo-cisce\
 nPopis: \n\nTo maintain the stability\, security and smoothness of global 
 industrial and supply chain systems\, the 2nd China International Supply 
 Chain Expo (CISCE)\, hosted by China Council for the Promotion of Internat
 ional Trade (CCPIT) and organized by the China International Exhibition Ce
 nter Group Limited (CIEC)\, will take place from November 26th to 30th\,
  2024 in Beijing. \nCISCE is the world's first national-level exhibitio
 n focusing on supply chain\, with the theme of Connecting the World for 
 a Shared Future. CISCE is not only an exhibition platform\, but a compreh
 ensive platform that reflects the developments of the industrial chains an
 d the trends of supply chain cooperation.\nThe first CISCE was successfull
 y held in Beijing from November 28th to December 2nd\, 2023. Premier Li Q
 iang of the State Council attended the Opening Ceremony of CISCE and deliv
 ered a keynote speech. A total of 515 enterprises and organizations from a
 ll over the world participated in the event with exquisite display\, and d
 ebuted 62 new products\, technologies and services. During the Expo\, 6 th
 ematic forums\, as well as more than 360 supporting activities\, were held
  corresponding to the 5 major industrial chains and supply chain service s
 ector. Meanwhile\, 23 achievements such as research reports\, declarations
  and standards were released\, with the number of visitors reaching 150\,
 000\, and more than 200 cooperation agreements and intentional agreements 
 were signed\, involving an amount of more than RMB 150 billion.\nThe 2nd 
 CISCE will cover more than 100\,000 square meters\, focusing on 6 major c
 hains: Advanced Manufacturing\, Clean Energy\, Smart Vehicle\, Digital Tec
 hnology\, Healthy Life and Green Agriculture\, as well as a Supply Chain S
 ervice Area. It will vertically showcase advanced technologies and product
 s from upstream\, midstream and downstream of each industrial chain\, and 
 horizontally display service ecosystems such as finance\, logistics and pl
 atform enterprises. Exhibitors at the CISCE will be either leading compani
 es covering the entire industrial chain\, or specialized and innovative co
 mpanies incorporated into the supply chain. They will inspire each other o
 n both demand and supply sides\, so as to promote long-term and stable su
 pply chain cooperation. The list of exhibitors and the latest news can be 
 found on the official website of CISCE (www.cisce.org.cn).\nContact person
 :\nChai PeiProject manager China chamber of international commercechaipei@
 ccoic.cn010-86431011\n
URL:https://www.spcr.cz/2nd-china-international-supply-chain-expo-cisce
DTSTART:20241126T000000
DTEND:20241130T235959
LOCATION:
END:VEVENT
END:VCALENDAR
