BEGIN:VCALENDAR
PRODID:-//eluceo/ical//2.0/EN
VERSION:2.0
CALSCALE:GREGORIAN
BEGIN:VEVENT
UID:9cf214b316dea03032e7809db6b68471
DTSTAMP:20260423T130528Z
SUMMARY:Pozvánka na veletrh Rebuild Ukraine ve Varšavě
DESCRIPTION:Název akce: Pozvánka na veletrh Rebuild Ukraine ve Varšavě\
 nURL: https://www.spcr.cz/pozvanka-na-veletrh-rebuild-ukraine-ve-varsave\n
 Popis: \n\nDovolujeme si Vás informovat o konání veletrhu Rebuild Ukrai
 ne na podporu Ukrajiny\, který proběhne ve dnech 13. - 14. listopadu ve 
 Varšavě. Hlavními sektory tohoto veletrhu budou energetika\, infrastruk
 tura a stavebnictví.\nMinisterstvo průmyslu a obchodu ČR podpoří čes
 ké firmy\, které by měly zájem se tohoto veletrhu aktivně zúčastnit
 \, formou příspěvku na výstavní plochu\, stánek či cílenou reklamu
 . Na akci budou rovněž přítomni zástupci ukrajinské kanceláře Czec
 hTrade\, kteří mohou firmám pomoci s jejich projekty na Ukrajině.\nV
 íce informací o veletrhu najdete pod odkazem zde: www.rebuildukraine.in.
 ua/en\nPodmínkou účasti je zaslání vyplněné přihlášky na email p
 osta@mpo.gov.cz nebo přes datovou schránku ID: bxtaaw4 nejpozději do
  15. září 2024.\nV případě dotazů se můžete obrátit na Oddělen
 í exportních služeb Ministerstva průmyslu a obchodu ČR\, paní Vladim
 íru Formanovou (tel. +420 224 852 024\; email: vladimira.formanova@mpo.g
 ov.cz).\n \nPrihlaskaCP_2023-2024.docx\n7_Podmínky_pro_organizování_a_
 financování_českých_oficiálních_účastí_2023-24.pdf\nPříloha_k_p
 odmínkám_2023-2024.pdf\n \n\n \n
URL:https://www.spcr.cz/pozvanka-na-veletrh-rebuild-ukraine-ve-varsave
DTSTART:20241113T080000
DTEND:20241114T170000
LOCATION:
END:VEVENT
END:VCALENDAR
