BEGIN:VCALENDAR
PRODID:-//eluceo/ical//2.0/EN
VERSION:2.0
CALSCALE:GREGORIAN
BEGIN:VEVENT
UID:05cd4858126a58505d02907ea1d741ee
DTSTAMP:20260423T125219Z
SUMMARY:Internationale Holzmesse 2024
DESCRIPTION:Název akce: Internationale Holzmesse 2024\nURL: https://www.sp
 cr.cz/internationale-holzmesse-2024\nPopis: \n\nAgentura CzechTrade pořá
 dá pro české firmy společnou expozici na mezinárodním veletrhu Inter
 nationale Holzmesse 2024.\nInternationale Holzmesse / Holz&Bau se koná je
 dnou za dva roky v rakouském Klagenfurtu am Wörthersee. Veletrh je urče
 ný pro všechny\, kteří podnikají v sektorech lesnictví\, pilařství
 \, dřevostaveb\, tesařství\, dopravy dřeva a bioenergie. Letošní ro
 čník se navíc blíže zaměřuje na logistiku v dřevařství.\nSoubě
 žně s těmito veletrhy proběhne lovecká výstava Treffpunkt Jagd.\nFil
 osofií veletrhu je poskytnout přehled o hodnotovém řetězci v sektoru 
 zpracování dřeva\, což probíhá kombinováním zajímavých prezentac
 í\, předváděním produktů a oborových setkání. Díky tomu veletrh 
 zajišťuje silnější propojení jednotlivých odvětví v dřevozpracov
 atelském průmyslu a nabízí příležitost navázat úspěšnou spolupr
 áci napříč celým dřevařským hodnotovým řetězcem.\nChcete vystav
 ovat na tomto veletrhu\, ale neplánujete vlastní stánek? Vystavujte s C
 zechTrade a ušetřete čas i náklady.\nCzechTrade podporuje firmy při j
 ejich pronikání na zahraniční trhy\, proto kromě vlastní realizace s
 polečné expozice\, nabízí doprovodné služby\, jakými jsou třeba os
 lovení potenciálních partnerů před akcí\, osobní asistence během v
 eletrhu nebo aktivní účast při jednáních s obchodními partnery.\nV
 íce informací k akci naleznete zde. \n \n
URL:https://www.spcr.cz/internationale-holzmesse-2024
DTSTART:20240828T000000
DTEND:20240831T235959
LOCATION:
END:VEVENT
END:VCALENDAR
