BEGIN:VCALENDAR
PRODID:-//eluceo/ical//2.0/EN
VERSION:2.0
CALSCALE:GREGORIAN
BEGIN:VEVENT
UID:26b4bf92b06071ed2d634fd4b9f56c41
DTSTAMP:20260423T163124Z
SUMMARY:Jak získat finance v programech INO:EX?
DESCRIPTION:Název akce: Jak získat finance v programech INO:EX?\nURL: htt
 ps://www.spcr.cz/jak-ziskat-finance-v-programech-inoex\nPopis: \n\nVyvíj
 íte nové technologie či produkty? Chcete se dostat na nové trhy? Chcet
 e získat finanční podporu\, která vám v tom rychle pomůže? Brzy bud
 e spuštěna nová výzva programů INOvuj produkt – EXpanduj na trh (IN
 O:EX).\nBrzy bude spuštěna nová výzva programů INOvuj produkt – EXp
 anduj na trh (INO:EX)\, kde můžete získat až 650 000 Kč pro svoji fir
 mu. Máte zájem? Přihlaste se na webinář.  \nCo se na webináři dozv
 íte?  \n\nJak fungují programy INO:EX \nJaké jsou klíčové výhody
  a příležitosti\, které programy nabízí \nJak správně podat přih
 lášku \nTipy a triky pro maximalizaci vašich šancí na úspěch \nCo
  podporujeme (příklady úspěšných projektů)\n\nPro koho je webinář
  určen: \n\nPro malé a střední podniky\, které chtějí inovovat sv
 é portfolio \nPro firmy plánující expanzi na nové trhy \nPro všech
 ny\, kteří hledají efektivní podporu pro svůj podnikatelský záměr
  \n\nVíce informací k akci a registrace zde. \n
URL:https://www.spcr.cz/jak-ziskat-finance-v-programech-inoex
DTSTART:20240820T140000
DTEND:20240820T153000
LOCATION:
END:VEVENT
END:VCALENDAR
