BEGIN:VCALENDAR
PRODID:-//eluceo/ical//2.0/EN
VERSION:2.0
CALSCALE:GREGORIAN
BEGIN:VEVENT
UID:623e7e3ea94492e3039b6f390f9393d5
DTSTAMP:20260423T125654Z
SUMMARY:Pozvánka na Trade Expo Indonesia (TEI)
DESCRIPTION:Název akce: Pozvánka na Trade Expo Indonesia (TEI)\nURL: http
 s://www.spcr.cz/pozvanka-na-trade-expo-indonesia-tei\nPopis: \n\nRádi byc
 hom Vás informovali o obchodní akci v Indonésii - Trade Expo Indonesia 
 (TEI)\, která se koná 9. - 12. října 2024 v ICE Indonesia\, které je
  součástí BSD City. Účastníci se mohou seznámit s exportními prod
 ukty Indonésie\, potkat potenciální partnery nebo se rovnou registrovat
  na business matching.\nV případě zájmu se můžete obrátit na Natan
 a Ledvoňě z Velvyslanectví Indonéské republiky v Praze - natan.led
 von@indonesia.cz.\nVíce informací naleznete zde:\nTrade_Expo_Indonesia_T
 EI.pdf\n
URL:https://www.spcr.cz/pozvanka-na-trade-expo-indonesia-tei
DTSTART:20241009T000000
DTEND:20241012T235959
LOCATION:
END:VEVENT
END:VCALENDAR
