BEGIN:VCALENDAR
PRODID:-//eluceo/ical//2.0/EN
VERSION:2.0
CALSCALE:GREGORIAN
BEGIN:VEVENT
UID:044c89801efa52f5bfb084e1dc9c3075
DTSTAMP:20260423T173322Z
SUMMARY:Pozvánka na Indonesia-EU Business Forum (IEBF)
DESCRIPTION:Název akce: Pozvánka na Indonesia-EU Business Forum (IEBF)\nU
 RL: https://www.spcr.cz/pozvanka-na-indonesia-eu-business-forum-iebf\nPopi
 s: \n\nRádi bychom Vás informovali o obchodní akci v Indonésii - Indo
 nesia-EU Business Forum (IEBF)\, která se koná 7. - 8. října 2024 v Ja
 kartě. Účastníci se mohou seznámit s exportními produkty Indonésie
 \, potkat potenciální partnery nebo se rovnou registrovat na business ma
 tching.\nV případě zájmu se můžete obrátit na Natana Ledvoňě z V
 elvyslanectví Indonéské republiky v Praze - natan.ledvon@indonesia.cz.
 \nVíce informací naleznete zde:\nIndonesia-Europe_Business_Fórum_2024.p
 df\n
URL:https://www.spcr.cz/pozvanka-na-indonesia-eu-business-forum-iebf
DTSTART:20241007T000000
DTEND:20241008T235959
LOCATION:
END:VEVENT
END:VCALENDAR
