BEGIN:VCALENDAR
PRODID:-//eluceo/ical//2.0/EN
VERSION:2.0
CALSCALE:GREGORIAN
BEGIN:VEVENT
UID:274d95096369ee57eda6bda74fcfc4f7
DTSTAMP:20260423T145743Z
SUMMARY:Tchaj-wan - nabídka účasti na evropsko-tchajwanské akci v Tchaj
 -peji
DESCRIPTION:Název akce: Tchaj-wan - nabídka účasti na evropsko-tchajwan
 ské akci v Tchaj-peji\nURL: https://www.spcr.cz/tchaj-wan-nabidka-ucasti-
 na-evropsko-tchajwanske-akci-v-tchaj-peji\nPopis: \n\nDovolujeme si vás i
 nformovat o nabídce pro české firmy z oblasti “zelené” energie. P
 ři veletrhu Energy Taiwan 2024 (2.-4. 10. 2024 v Tchaj-peji\,  https://
 www.energytaiwan.com.tw/en/index.html) bude pořádat zastoupení EU na Tc
 haj-wanu (European Economic and Trade Office /EETO/) s členskými zeměmi
  sérii akcí v Tchaj-peji. Jedná se o 2024 EU-Taiwan Investment Partner
 ship Forum & B2B Matchmaking on Green Transition dne 4. 10. 2024 (pátek)
 \, kdy v dopoledních hodinách (TW času) proběhne fórum a v odpolední
 ch B2B.\nEETO nabízí účast pro české frmy a take možnost přednáš
 ejícího pro zmiňované forum\, kde firma může představit svou techno
 logii – pod uvedenými tématy v přiložené agendě.\nZvaní na B2B bu
 de zajištěno TW stranou (různé odborné asociace – uvedeny v přilo
 žené agendě) dle požadavku evropských firem.\n3. 10. 2024 bude zaji
 štěna také návštěva několika TW firem na místě pro všechny evr
 opské účastníky. Doprava v místě bude hrazena ze strany EETO.\nSmysl
 em této aktivity je propojit tchajwanské a evropské firmy s cíly: 1) p
 řilákat TW investory v zelené energetice do Evropy a 2) napomoci ke kom
 erční spolupráci mezi EU a TW firmami v rámci exportu na TW.\n \nV p
 řípadě dotazů nebo zájmu se prosím obracejte na Kateřinu Heinischov
 ou z České ekonomické a kulturní kanceláře v Tchaj-pej: katerina.he
 inischova@mzv.gov.cz\n \nTentative_Agenda_2024_EU_Taiwan_Investment_Partn
 ership_Forum_on_Green_Transition_v4.docx\n
URL:https://www.spcr.cz/tchaj-wan-nabidka-ucasti-na-evropsko-tchajwanske-ak
 ci-v-tchaj-peji
DTSTART:20241002T080000
DTEND:20241004T170000
LOCATION:
END:VEVENT
END:VCALENDAR
