BEGIN:VCALENDAR
PRODID:-//eluceo/ical//2.0/EN
VERSION:2.0
CALSCALE:GREGORIAN
BEGIN:VEVENT
UID:ab06e79eaeb8595e2a2adef098f6cdc2
DTSTAMP:20260423T130212Z
SUMMARY:5th Annual Edition of the Angola Oil and Gas Conference
DESCRIPTION:Název akce: 5th Annual Edition of the Angola Oil and Gas Confe
 rence\nURL: https://www.spcr.cz/5th-annual-edition-angola-oil-and-gas-conf
 erence\nPopis: \n\nDovolujeme si Vás informovat\, že ve dnech 2.-3. ř
 íjna 2024 se v angolské Luandě koná konference s názvem Angola Oil an
 d Gas Conference se zaměřením na ropu a zemní plyn.\nPodrobnější in
 formace o této konferenci najdete v příložených souborech.\nPro více
  podrobností kontaktujte prosím Velvyslanectví České republiky v Pret
 orii.\n \nN.V.NR.458.GAB.EMB.ANG.RSA.2024_sanitized_.pdf\nBROCHURA_INFORM
 ATIVA_sanitized_.pdf\n
URL:https://www.spcr.cz/5th-annual-edition-angola-oil-and-gas-conference
DTSTART:20241002T080000
DTEND:20241003T170000
LOCATION:
END:VEVENT
END:VCALENDAR
