BEGIN:VCALENDAR
PRODID:-//eluceo/ical//2.0/EN
VERSION:2.0
CALSCALE:GREGORIAN
BEGIN:VEVENT
UID:35edf23be0a04366d60df90f42e536d1
DTSTAMP:20260423T125843Z
SUMMARY:Pozvánka na seminář Doing Business in Japan
DESCRIPTION:Název akce: Pozvánka na seminář Doing Business in Japan\nUR
 L: https://www.spcr.cz/pozvanka-na-seminar-doing-business-japan\nPopis: \n
 \nDovolujeme si Vás informovat o konání podnikatelského semináře D
 oing Business in Japan v prostorách Ministerstva průmyslu a obchodu dn
 e 10. září 2024 od 13 hodin.\nSeminář je spolupořádaný MPO ČR a
  Českou komorou obchodu a průmyslu v Japonsku (CCCIJ) a jeho cílem je 
 informovat zájemce z řad českých firem o pravidlech podnikání v Ja
 ponsku\, o možnostech získání podpory a případných příležitostec
 h pro navázání obchodní spolupráce.\nNíže najdete program akce\, 
 účast na semináři je zdarma. Registrace je otevřená do 6. září 2
 024 na odkaze zde.\nProgram semináře\n \n
URL:https://www.spcr.cz/pozvanka-na-seminar-doing-business-japan
DTSTART:20240910T130000
DTEND:20240910T170000
LOCATION:
END:VEVENT
END:VCALENDAR
