BEGIN:VCALENDAR
PRODID:-//eluceo/ical//2.0/EN
VERSION:2.0
CALSCALE:GREGORIAN
BEGIN:VEVENT
UID:40fefc6830b2da5d2ebe24629d635c78
DTSTAMP:20260423T114832Z
SUMMARY:Pozvánka na mezinárodní veletrh a konferenci v Turkmenistánu
DESCRIPTION:Název akce: Pozvánka na mezinárodní veletrh a konferenci v 
 Turkmenistánu\nURL: https://www.spcr.cz/pozvanka-na-mezinarodni-veletrh-k
 onferenci-v-turkmenistanu\nPopis: \n\nRádi bychom Vás informovali o podn
 ikatelské misi Ministersva průmyslu a obchodu na mezinárodní veletrh 
 "Construction\, Industry\, Energy of Turkmenistan-2024" a konferenci "De
 velopment of Construction\, Industry\, Energy of Turkmenistan"\, které s
 e budou konat ve dnech 3. až 5. listopadu 2024 v turkmenském Ašchabad
 u.\nPodnikatelská mise je unikátní příležitostí prezentovat se v Tu
 rkmenistánu\, který je jinak velice složitě přístupný jak pro samot
 nou cestu do země\, tak i pro proniknutí na místní trh bez osobní ú
 časti a prezentace.\nTato prestižní událost poskytne ideální platfor
 mu pro představení nejnovějších inovací a technologií v oblastech s
 tavebnictví\, průmyslu a energetiky. Na veletrhu se setkáte s odborník
 y z různých zemí\, vyměníte si zkušenosti a navážete nové obchodn
 í kontakty. Konference nabídne jedinečnou příležitost k diskuzi o so
 učasných výzvách a budoucím rozvoji těchto klíčových sektorů v T
 urkmenistánu.\nTémata konference zahrnují:\n\nMezinárodní spolupráce
  a investice v odvětví elektřiny v Turkmenistánu\nÚloha Turkmenistán
 u v zásobování elektřinou zemí Střední Asie a Blízkého východu\n
 Výstavba a modernizace výrobních a distribučních kapacit Turkmenistá
 nu\nÚspory energie a energetická účinnost v energetickém sektoru Turk
 menistánu\nPředstavení a perspektivy rozvoje nekonvenční energetiky v
  Turkmenistánu\n\nHlavní body události (TBC):\n\nPrezentace nejnovějš
 ích produktů a služeb\nB2B setkání s potenciálními partnery\nPanelo
 vé diskuse a odborné přednášky\nNetworkingové akce\n\nTuto podnikate
 lskou misi plánují společně Ministerstvo průmyslu a obchodu\, Velvys
 lanectví ČR v Taškentu a kancelář CzechTrade v Taškentu. \nPro víc
 e informací a registraci kontaktujte Mgr. Matyáše Viktoru (matyas.vikto
 ra@mpo.gov.cz\, tel.: +420 224 852 003) nebo Mgr. Jakuba Mareše (jakub.ma
 res@mpo.gov.cz\, tel.: +420 224 853 486). V případě e-mailové komunika
 ce žádáme do kopie zahrnout adresu kumushoy.abdurakhmanova@mzv.gov.cz.
   \nZ důvodu komplexního a časově náročného procesu získávání
  víz do Turkmenistánu je registrace otevřena pouze do 16. září 2024.
 \n
URL:https://www.spcr.cz/pozvanka-na-mezinarodni-veletrh-konferenci-v-turkme
 nistanu
DTSTART:20241103T000000
DTEND:20241105T235959
LOCATION:
END:VEVENT
END:VCALENDAR
