BEGIN:VCALENDAR
PRODID:-//eluceo/ical//2.0/EN
VERSION:2.0
CALSCALE:GREGORIAN
BEGIN:VEVENT
UID:73b8798a6901dca1c482b9e7ff76e601
DTSTAMP:20260423T145750Z
SUMMARY:Pozvánka na HUB Cámara Santo Domingo 
DESCRIPTION:Název akce: Pozvánka na HUB Cámara Santo Domingo \nURL: http
 s://www.spcr.cz/pozvanka-na-hub-camara-santo-domingo\nPopis: \n\nDovolujem
 e si Vás informovat\, že ve dnech 2.-5. září 2024 se v Dominikánsk
 é republice koná 6. ročník přední multisektorové obchodní akce HUB
  Cámara Santo Domingo.\nAkci organizuje Exportní a Investiční centrum 
 Dominikánské republiky (ProDominicana)\, vládní organizace na podporu 
 exportu\, a je určena všem firmám\, které mají zájem dovážet produ
 kty z Dominikánské republiky.\nV rámci pobídek mohou účastníci z
 ískat volný vstup na výstaviště a businessové akce\, příspěvek na
  ubytování\, místní transfery\, zajištění obchodních schůzek a as
 istenci zástupců ProDominicana na místě akce. Více informací o akci 
 najdete v přiložené pozvánce.\nV případě zájmu o účast je pot
 řeba vyplnit a podat přihlášku do 25. srpna 2024. Pro více podrobnos
 tí kontaktujte prosím zástupce Ministerstva průmyslu a obchodu ČR na 
 e-mailové adrese tumaj@mpo.cz\, do kopie: jenickovam@mpo.cz.\nProg_de_In
 centivos_HUB_Camara_2024_Eng.pdf\n
URL:https://www.spcr.cz/pozvanka-na-hub-camara-santo-domingo
DTSTART:20240902T080000
DTEND:20240905T170000
LOCATION:
END:VEVENT
END:VCALENDAR
