BEGIN:VCALENDAR
PRODID:-//eluceo/ical//2.0/EN
VERSION:2.0
CALSCALE:GREGORIAN
BEGIN:VEVENT
UID:b6e4d1277ab0f4025d121cb5a5ee78e6
DTSTAMP:20260423T125212Z
SUMMARY:Pozvánka na Industry Day 5.9.2024 
DESCRIPTION:Název akce: Pozvánka na Industry Day 5.9.2024 \nURL: https://
 www.spcr.cz/pozvanka-na-industry-day-592024\nPopis: \n\nDovolujeme si Vás
  informovat\, že dne 5. září 2024 od 14:00 proběhne ve Fantově sále
  na Hlavním nádraží v Praze  Industry Day pro infrastrukturní proje
 kt\, který připravuje EBRD ve spolupráci se Správou železnic a pod z
 áštitou ministra dopravy Martina Kupky.\nJedná se o investorskou konfer
 enci k PPP projektu železničního spojení mezi centrem Prahy a Letišt
 ěm Václava Havla. Více informací o projektu najdete např. zde: Úsek
 y - www.spravazeleznic.cz.\nNa akci jsou zváni také zástupci firem. Kon
 ference bude probíhat hybridní formou v anglickém jazyce\, účast na n
 í je bezplatná\, je však podmíněna registrací. Podrobnosti a možnos
 t registrace najdete v přiložené pozvánce.\nInvitation_CZ.pdf\nInvita
 tion_EN.pdf\n \n
URL:https://www.spcr.cz/pozvanka-na-industry-day-592024
DTSTART:20240905T140000
DTEND:20240905T170000
LOCATION:
END:VEVENT
END:VCALENDAR
