BEGIN:VCALENDAR
PRODID:-//eluceo/ical//2.0/EN
VERSION:2.0
CALSCALE:GREGORIAN
BEGIN:VEVENT
UID:d28c9238effce0c65da98c65333e43b4
DTSTAMP:20260423T192610Z
SUMMARY:Hub Cámara Santo Domingo 2024
DESCRIPTION:Název akce: Hub Cámara Santo Domingo 2024\nURL: https://www.s
 pcr.cz/hub-camara-santo-domingo-2024\nPopis: \n\nVelvyslanectví Dominiká
 nské Republiky ve Vídni\, akreditované pro ČR Vás zve na obchodní ak
 ci "Hub Cámara Santo Domingo 2024". Jedná se o 6. ročník přední mu
 ltisektorové obchodní akce\, která se bude konat od 2. do 5. září 2
 024 v hotelu El Embajador v Santo Domingu.\nAkce je vhodná především 
 pro dovozce\, distributory\, obchodní domy\, dodavatele a další zájemc
 e o nákup výrobků z Dominikánské republiky.\nVíce informací najdete
  v informačním letáku níže:\nProg_de_Incentivos_HUB_Camara_2024_Eng.p
 df\nTermín pro podání žádosti je do 25. srpna 2024.\nV případě z
 ájmu o účast\, prosím\, kontaktujte kolegy z Ministerstva průmyslu a 
 obchodu na jejich e-mailové adresy: Jan Tůma - tumaj@mpo.cz a Martina 
 Jeníčková - jenickovam@mpo.cz.\n
URL:https://www.spcr.cz/hub-camara-santo-domingo-2024
DTSTART:20240902T000000
DTEND:20240905T235959
LOCATION:
END:VEVENT
END:VCALENDAR
