BEGIN:VCALENDAR
PRODID:-//eluceo/ical//2.0/EN
VERSION:2.0
CALSCALE:GREGORIAN
BEGIN:VEVENT
UID:ea80982ea7f6f8c7162dd9824acf2230
DTSTAMP:20260423T125212Z
SUMMARY:UCA events in Lviv and Kyiv
DESCRIPTION:Název akce: UCA events in Lviv and Kyiv\nURL: https://www.spcr
 .cz/uca-events-lviv-and-kyiv\nPopis: \n\nInvitation to UCA events on Augus
 t 27-29 in Lviv and Kyiv\n\nDear Ladies and Gentlemen\,\nWe invite you to 
 participate in meetings of Ukrainian clusters and ambassadors of the Profe
 ssionals4Ukraine program ‘Building a common agenda for Recovery of Ukra
 ine’\, which will take place on August 27-29 in Lviv and Kyiv. The event
  organizer is the Ukrainian Cluster Alliance (UCA).\nThe 3-day program of 
 events includes round tables and conferences in Lviv and Kyiv\, visits to 
 local EDIHs and innovation parks\, clusters. Presentations and discussions
  include a large list of topics relevant to the Stability and Reconstructi
 on of Ukraine.\n\nRestoration of Ukraine projects and prospects for cluste
 r cooperation. Regional and cross-border cooperation.\nCluster movement: t
 he role of clusters in the conditions of military presence\, mechanisms fo
 r supporting international cooperation of clusters\, the role of regional 
 administrations in the development of clusters.\nExperience and best pract
 ices in the development of innovative regional ecosystems\, cooperation of
  EDIHs.\nBest experience and practices of UCA clusters / new initiatives i
 n the fields of Energy and Defense.\nThe best cases and practices of Profe
 ssionals4Ukraine ambassadors\n\nLeading clusters of Ukraine from Lviv\, Kh
 melnytskyi\, Kharkiv\, Dnipro\, Zaporizhzhia\, Mykolaiv\, Kyiv will take p
 art in the conference. Among the foreign guests are ambassadors of the Pro
 fessionals4Ukraine program from Germany\, Poland\, Romania\, the Czech Rep
 ublic and France.\nMore information and registration is available here. \
 n
URL:https://www.spcr.cz/uca-events-lviv-and-kyiv
DTSTART:20240827T000000
DTEND:20240829T235959
LOCATION:
END:VEVENT
END:VCALENDAR
