BEGIN:VCALENDAR
PRODID:-//eluceo/ical//2.0/EN
VERSION:2.0
CALSCALE:GREGORIAN
BEGIN:VEVENT
UID:930a3af04c48a3c67e563ba3a0dd4b70
DTSTAMP:20260423T192727Z
SUMMARY:FUTURE OF EXPORT SUMMIT 2024
DESCRIPTION:Název akce: FUTURE OF EXPORT SUMMIT 2024\nURL: https://www.spc
 r.cz/future-export-summit-2024\nPopis: \n\nZveme vás na prestižní byzny
 sovou akci FUTURE OF EXPORT SUMMIT 2024.Ve třetím ročníku konference s
 polečně s osobnostmi českého byznysu představíme trendy světového 
 exportu a budeme sdílet s Vámi naše know-how ze 65 trhů\, kde CzechTra
 de působí. Na konferenci vystoupí a o své zkušenosti se přijdou pod
 ělit exportéři působící na blízkých i vzdálených zahraničních 
 trzích\, odborníci na AI\, digitální komunikaci\, financování nebo 
 úspěšné prezentování na akcích v zahraničí. Dále vystoupí ředi
 telé vybraných zahraničních kanceláří a experti z centrály CzechTr
 ade. Akce je vhodná pro podnikatele\, CEO\, obchodní ředitele\, exportn
 í a marketingové manažery.\nVíce informací k programu a registranci n
 a akci naleznete zde. \n
URL:https://www.spcr.cz/future-export-summit-2024
DTSTART:20241112T100000
DTEND:20241112T143000
LOCATION:
END:VEVENT
END:VCALENDAR
