BEGIN:VCALENDAR
PRODID:-//eluceo/ical//2.0/EN
VERSION:2.0
CALSCALE:GREGORIAN
BEGIN:VEVENT
UID:97a2c33c93f9606d6783c25eeae49fbd
DTSTAMP:20260423T150508Z
SUMMARY:Mise v oblasti cybersecurity do Kanady
DESCRIPTION:Název akce: Mise v oblasti cybersecurity do Kanady\nURL: https
 ://www.spcr.cz/mise-v-oblasti-cybersecurity-do-kanady\nPopis: \n\nDovoluje
 me si Vás informovat o konání podnikatelské mise do Kanady\, která je
  organizována zastupitelskými úřady v Kanadě a agenturou  CzechInves
 t. Mise umožní úzké skupině firem a výzkumníků působících v obl
 asti cybersecurity účast na roadshow a networkingových akcích ve výc
 hodní části Kanady. Akce proběhne ve dnech 28. – 31. 10. 2024. \nPr
 ogram cesty zahrnuje následující prvky:\n\núčast na veletrhu InCyber
 \, který je severoamerickou odnoží francouzského stejnojmenného velet
 rhu\, s účastí kolem 5000 osob zejména z oblasti B2B\, ale i odborn
 é veřejnosti a státní správy\npodnikatelský a odborný program v To
 rontu včetně vybraných schůzek a networkingové B2B akce pořádané G
 enerálním konzulátem ČR v Torontu\nnávštěva Waterloo-Kitchener vče
 tně jednání s místním cybersecurity podnikatelským a univerzitním 
 ekosystémem\nv případě zájmu o jednání zejména s veřejnými slo
 žkami je možno doplnit program o jednání v Ottawě\n\nMise se uskuteč
 ní jako projekt ekonomické diplomacie Ministerstva zahraničních věcí
 \, z nějž budou hrazeny hromadné náklady spojené s účastí na vel
 etrhu\, realizací networkingových akcí\, pozemní přepravou apod. Úč
 astníci si hradí adresné výdaje\, zejména letenku a ubytování.\n \
 nV případě zájmu o účast či o další informace kontaktujte organi
 zátory mise na emailových adresách eva.bartonova@mzv.gov.cz\, marino.
 radacic@mzv.gov.cz a karolina.konicarova@czechinvest.org. Přihlašován
 í je možné do 15. 9.\n \n \n
URL:https://www.spcr.cz/mise-v-oblasti-cybersecurity-do-kanady
DTSTART:20241028T080000
DTEND:20241031T170000
LOCATION:
END:VEVENT
END:VCALENDAR
